BEGIN:VCALENDAR
PRODID:-//nuDatenautomaten//framework iCal4j //DE
VERSION:2.0
CALSCALE:GREGORIAN
BEGIN:VTIMEZONE
TZID:Europe/Berlin
LAST-MODIFIED:20260306T231828Z
TZURL:https://www.tzurl.org/zoneinfo/Europe/Berlin
X-LIC-LOCATION:Europe/Berlin
X-PROLEPTIC-TZNAME:LMT
BEGIN:STANDARD
TZNAME:CET
TZOFFSETFROM:+005328
TZOFFSETTO:+0100
DTSTART:18930401T000000
END:STANDARD
BEGIN:DAYLIGHT
TZNAME:CEST
TZOFFSETFROM:+0100
TZOFFSETTO:+0200
DTSTART:19160430T230000
RDATE:19400401T020000
RDATE:19430329T020000
RDATE:19460414T020000
RDATE:19470406T030000
RDATE:19480418T020000
RDATE:19490410T020000
RDATE:19800406T020000
END:DAYLIGHT
BEGIN:STANDARD
TZNAME:CET
TZOFFSETFROM:+0200
TZOFFSETTO:+0100
DTSTART:19161001T010000
RDATE:19421102T030000
RDATE:19431004T030000
RDATE:19441002T030000
RDATE:19451118T030000
RDATE:19461007T030000
END:STANDARD
BEGIN:DAYLIGHT
TZNAME:CEST
TZOFFSETFROM:+0100
TZOFFSETTO:+0200
DTSTART:19170416T020000
RRULE:FREQ=YEARLY;UNTIL=19180415T010000Z;BYMONTH=4;BYDAY=3MO
END:DAYLIGHT
BEGIN:STANDARD
TZNAME:CET
TZOFFSETFROM:+0200
TZOFFSETTO:+0100
DTSTART:19170917T030000
RRULE:FREQ=YEARLY;UNTIL=19180916T010000Z;BYMONTH=9;BYDAY=3MO
END:STANDARD
BEGIN:DAYLIGHT
TZNAME:CEST
TZOFFSETFROM:+0100
TZOFFSETTO:+0200
DTSTART:19440403T020000
RRULE:FREQ=YEARLY;UNTIL=19450402T010000Z;BYMONTH=4;BYDAY=1MO
END:DAYLIGHT
BEGIN:DAYLIGHT
TZNAME:CEMT
TZOFFSETFROM:+0200
TZOFFSETTO:+0300
DTSTART:19450524T020000
RDATE:19470511T030000
END:DAYLIGHT
BEGIN:DAYLIGHT
TZNAME:CEST
TZOFFSETFROM:+0300
TZOFFSETTO:+0200
DTSTART:19450924T030000
RDATE:19470629T030000
END:DAYLIGHT
BEGIN:STANDARD
TZNAME:CET
TZOFFSETFROM:+0100
TZOFFSETTO:+0100
DTSTART:19460101T000000
RDATE:19800101T000000
END:STANDARD
BEGIN:STANDARD
TZNAME:CET
TZOFFSETFROM:+0200
TZOFFSETTO:+0100
DTSTART:19471005T030000
RRULE:FREQ=YEARLY;UNTIL=19491002T010000Z;BYMONTH=10;BYDAY=1SU
END:STANDARD
BEGIN:STANDARD
TZNAME:CET
TZOFFSETFROM:+0200
TZOFFSETTO:+0100
DTSTART:19800928T030000
RRULE:FREQ=YEARLY;UNTIL=19950924T010000Z;BYMONTH=9;BYDAY=-1SU
END:STANDARD
BEGIN:DAYLIGHT
TZNAME:CEST
TZOFFSETFROM:+0100
TZOFFSETTO:+0200
DTSTART:19810329T020000
RRULE:FREQ=YEARLY;BYMONTH=3;BYDAY=-1SU
END:DAYLIGHT
BEGIN:STANDARD
TZNAME:CET
TZOFFSETFROM:+0200
TZOFFSETTO:+0100
DTSTART:19961027T030000
RRULE:FREQ=YEARLY;BYMONTH=10;BYDAY=-1SU
END:STANDARD
END:VTIMEZONE
BEGIN:VEVENT
DTSTAMP:20260419T211419Z
DTSTART;TZID=Europe/Berlin:20170908T200000
DTEND;TZID=Europe/Berlin:20170908T230000
SUMMARY:ME L5 Gr 6\, Tours 1&2 Rossens V vs Avry-Rosé III (0)
UID:6010be51-5497-5356-e053-1fc7a80a74f7
STATUS:CONFIRMED
LAST-MODIFIED:20170914T151555Z
DESCRIPTION:5ème ligue Hommes Groupe 6\, Tours 1&2\nBegegnungs-Nr: 0\nHeim: Rossens V\nGast: Avry-Rosé III\n\nAdresse: Route du Jordil 14\, 1728 Rossens\n
LOCATION:Route du Jordil 14\, 1728 Rossens
CATEGORIES:Saison 2017/18
END:VEVENT
BEGIN:VEVENT
DTSTAMP:20260419T211419Z
DTSTART;TZID=Europe/Berlin:20170929T200000
DTEND;TZID=Europe/Berlin:20170929T230000
SUMMARY:ME L5 Gr 6\, Tours 1&2 Rossens V vs Fribourg V (0)
UID:6010be51-549b-5356-e053-1fc7a80a74f7
STATUS:CONFIRMED
LAST-MODIFIED:20171009T134726Z
DESCRIPTION:5ème ligue Hommes Groupe 6\, Tours 1&2\nBegegnungs-Nr: 0\nHeim: Rossens V\nGast: Fribourg V\n\nAdresse: Route du Jordil 14\, 1728 Rossens\n
LOCATION:Route du Jordil 14\, 1728 Rossens
CATEGORIES:Saison 2017/18
END:VEVENT
BEGIN:VEVENT
DTSTAMP:20260419T211419Z
DTSTART;TZID=Europe/Berlin:20171013T200000
DTEND;TZID=Europe/Berlin:20171013T230000
SUMMARY:ME L5 Gr 6\, Tours 1&2 Rossens V vs Château d'Oex (0)
UID:6010be51-54a1-5356-e053-1fc7a80a74f7
STATUS:CONFIRMED
LAST-MODIFIED:20171019T112728Z
DESCRIPTION:5ème ligue Hommes Groupe 6\, Tours 1&2\nBegegnungs-Nr: 0\nHeim: Rossens V\nGast: Château d'Oex\n\nAdresse: Route du Jordil 14\, 1728 Rossens\n
LOCATION:Route du Jordil 14\, 1728 Rossens
CATEGORIES:Saison 2017/18
END:VEVENT
BEGIN:VEVENT
DTSTAMP:20260419T211419Z
DTSTART;TZID=Europe/Berlin:20171103T200000
DTEND;TZID=Europe/Berlin:20171103T230000
SUMMARY:ME L5 Gr 6\, Tours 1&2 Rossens V vs Ependes II (0)
UID:6010be51-54d3-5356-e053-1fc7a80a74f7
STATUS:CONFIRMED
LAST-MODIFIED:20171109T145902Z
DESCRIPTION:5ème ligue Hommes Groupe 6\, Tours 1&2\nBegegnungs-Nr: 0\nHeim: Rossens V\nGast: Ependes II\n\nAdresse: Route du Jordil 14\, 1728 Rossens\n
LOCATION:Route du Jordil 14\, 1728 Rossens
CATEGORIES:Saison 2017/18
END:VEVENT
BEGIN:VEVENT
DTSTAMP:20260419T211419Z
DTSTART;TZID=Europe/Berlin:20171201T200000
DTEND;TZID=Europe/Berlin:20171201T230000
SUMMARY:ME L5 Gr 6\, Tours 1&2 Rossens V vs Romont-Villaz II (0)
UID:6010be51-54d8-5356-e053-1fc7a80a74f7
STATUS:CONFIRMED
LAST-MODIFIED:20171207T100633Z
DESCRIPTION:5ème ligue Hommes Groupe 6\, Tours 1&2\nBegegnungs-Nr: 0\nHeim: Rossens V\nGast: Romont-Villaz II\n\nAdresse: Route du Jordil 14\, 1728 Rossens\n
LOCATION:Route du Jordil 14\, 1728 Rossens
CATEGORIES:Saison 2017/18
END:VEVENT
BEGIN:VEVENT
DTSTAMP:20260419T211419Z
DTSTART;TZID=Europe/Berlin:20170830T201500
DTEND;TZID=Europe/Berlin:20170830T231500
SUMMARY:ME L5 Gr 6\, Tours 1&2 Château d'Oex vs Rossens V (0)
UID:6010be51-5495-5356-e053-1fc7a80a74f7
STATUS:CONFIRMED
LAST-MODIFIED:20170911T144834Z
DESCRIPTION:5ème ligue Hommes Groupe 6\, Tours 1&2\nBegegnungs-Nr: 0\nHeim: Château d'Oex\nGast: Rossens V\n\nAdresse: rte du Périsset 7\, 1660 Château d'Oex\n
LOCATION:rte du Périsset 7\, 1660 Château d'Oex
CATEGORIES:Saison 2017/18
END:VEVENT
BEGIN:VEVENT
DTSTAMP:20260419T211419Z
DTSTART;TZID=Europe/Berlin:20171011T200000
DTEND;TZID=Europe/Berlin:20171011T230000
SUMMARY:ME L5 Gr 6\, Tours 1&2 Ependes II vs Rossens V (0)
UID:6010be51-549a-5356-e053-1fc7a80a74f7
STATUS:CONFIRMED
LAST-MODIFIED:20171018T152745Z
DESCRIPTION:5ème ligue Hommes Groupe 6\, Tours 1&2\nBegegnungs-Nr: 0\nHeim: Ependes II\nGast: Rossens V\n\nAdresse: -\, 1731 Ependes FR\n
LOCATION:-\, 1731 Ependes FR
CATEGORIES:Saison 2017/18
END:VEVENT
BEGIN:VEVENT
DTSTAMP:20260419T211419Z
DTSTART;TZID=Europe/Berlin:20171003T194500
DTEND;TZID=Europe/Berlin:20171003T224500
SUMMARY:ME L5 Gr 6\, Tours 1&2 Romont-Villaz II vs Rossens V (0)
UID:6010be51-549f-5356-e053-1fc7a80a74f7
STATUS:CONFIRMED
LAST-MODIFIED:20171009T134748Z
DESCRIPTION:5ème ligue Hommes Groupe 6\, Tours 1&2\nBegegnungs-Nr: 0\nHeim: Romont-Villaz II\nGast: Rossens V\n\nAdresse: Route de la Gare 5\, 1690 Villaz-St-Pierre\n
LOCATION:Route de la Gare 5\, 1690 Villaz-St-Pierre
CATEGORIES:Saison 2017/18
END:VEVENT
BEGIN:VEVENT
DTSTAMP:20260419T211419Z
DTSTART;TZID=Europe/Berlin:20171024T200000
DTEND;TZID=Europe/Berlin:20171024T230000
SUMMARY:ME L5 Gr 6\, Tours 1&2 Avry-Rosé III vs Rossens V (0)
UID:6010be51-54a3-5356-e053-1fc7a80a74f7
STATUS:CONFIRMED
LAST-MODIFIED:20171030T082000Z
DESCRIPTION:5ème ligue Hommes Groupe 6\, Tours 1&2\nBegegnungs-Nr: 0\nHeim: Avry-Rosé III\nGast: Rossens V\n\nAdresse: Route du Château 15\, 1754 Avry-sur-Matran\n
LOCATION:Route du Château 15\, 1754 Avry-sur-Matran
CATEGORIES:Saison 2017/18
END:VEVENT
BEGIN:VEVENT
DTSTAMP:20260419T211419Z
DTSTART;TZID=Europe/Berlin:20171116T191500
DTEND;TZID=Europe/Berlin:20171116T221500
SUMMARY:ME L5 Gr 6\, Tours 1&2 Fribourg V vs Rossens V (0)
UID:6010be51-54d4-5356-e053-1fc7a80a74f7
STATUS:CONFIRMED
LAST-MODIFIED:20171122T105917Z
DESCRIPTION:5ème ligue Hommes Groupe 6\, Tours 1&2\nBegegnungs-Nr: 0\nHeim: Fribourg V\nGast: Rossens V\n\nAdresse: Avenue Général Guisan 61\, 1700 Fribourg\n
LOCATION:Avenue Général Guisan 61\, 1700 Fribourg
CATEGORIES:Saison 2017/18
END:VEVENT
END:VCALENDAR
