BEGIN:VCALENDAR
PRODID:-//nuDatenautomaten//framework iCal4j //DE
VERSION:2.0
CALSCALE:GREGORIAN
BEGIN:VTIMEZONE
TZID:Europe/Berlin
LAST-MODIFIED:20260306T231828Z
TZURL:https://www.tzurl.org/zoneinfo/Europe/Berlin
X-LIC-LOCATION:Europe/Berlin
X-PROLEPTIC-TZNAME:LMT
BEGIN:STANDARD
TZNAME:CET
TZOFFSETFROM:+005328
TZOFFSETTO:+0100
DTSTART:18930401T000000
END:STANDARD
BEGIN:DAYLIGHT
TZNAME:CEST
TZOFFSETFROM:+0100
TZOFFSETTO:+0200
DTSTART:19160430T230000
RDATE:19400401T020000
RDATE:19430329T020000
RDATE:19460414T020000
RDATE:19470406T030000
RDATE:19480418T020000
RDATE:19490410T020000
RDATE:19800406T020000
END:DAYLIGHT
BEGIN:STANDARD
TZNAME:CET
TZOFFSETFROM:+0200
TZOFFSETTO:+0100
DTSTART:19161001T010000
RDATE:19421102T030000
RDATE:19431004T030000
RDATE:19441002T030000
RDATE:19451118T030000
RDATE:19461007T030000
END:STANDARD
BEGIN:DAYLIGHT
TZNAME:CEST
TZOFFSETFROM:+0100
TZOFFSETTO:+0200
DTSTART:19170416T020000
RRULE:FREQ=YEARLY;UNTIL=19180415T010000Z;BYMONTH=4;BYDAY=3MO
END:DAYLIGHT
BEGIN:STANDARD
TZNAME:CET
TZOFFSETFROM:+0200
TZOFFSETTO:+0100
DTSTART:19170917T030000
RRULE:FREQ=YEARLY;UNTIL=19180916T010000Z;BYMONTH=9;BYDAY=3MO
END:STANDARD
BEGIN:DAYLIGHT
TZNAME:CEST
TZOFFSETFROM:+0100
TZOFFSETTO:+0200
DTSTART:19440403T020000
RRULE:FREQ=YEARLY;UNTIL=19450402T010000Z;BYMONTH=4;BYDAY=1MO
END:DAYLIGHT
BEGIN:DAYLIGHT
TZNAME:CEMT
TZOFFSETFROM:+0200
TZOFFSETTO:+0300
DTSTART:19450524T020000
RDATE:19470511T030000
END:DAYLIGHT
BEGIN:DAYLIGHT
TZNAME:CEST
TZOFFSETFROM:+0300
TZOFFSETTO:+0200
DTSTART:19450924T030000
RDATE:19470629T030000
END:DAYLIGHT
BEGIN:STANDARD
TZNAME:CET
TZOFFSETFROM:+0100
TZOFFSETTO:+0100
DTSTART:19460101T000000
RDATE:19800101T000000
END:STANDARD
BEGIN:STANDARD
TZNAME:CET
TZOFFSETFROM:+0200
TZOFFSETTO:+0100
DTSTART:19471005T030000
RRULE:FREQ=YEARLY;UNTIL=19491002T010000Z;BYMONTH=10;BYDAY=1SU
END:STANDARD
BEGIN:STANDARD
TZNAME:CET
TZOFFSETFROM:+0200
TZOFFSETTO:+0100
DTSTART:19800928T030000
RRULE:FREQ=YEARLY;UNTIL=19950924T010000Z;BYMONTH=9;BYDAY=-1SU
END:STANDARD
BEGIN:DAYLIGHT
TZNAME:CEST
TZOFFSETFROM:+0100
TZOFFSETTO:+0200
DTSTART:19810329T020000
RRULE:FREQ=YEARLY;BYMONTH=3;BYDAY=-1SU
END:DAYLIGHT
BEGIN:STANDARD
TZNAME:CET
TZOFFSETFROM:+0200
TZOFFSETTO:+0100
DTSTART:19961027T030000
RRULE:FREQ=YEARLY;BYMONTH=10;BYDAY=-1SU
END:STANDARD
END:VTIMEZONE
BEGIN:VEVENT
DTSTAMP:20260424T163222Z
DTSTART;TZID=Europe/Berlin:20180115T193000
DTEND;TZID=Europe/Berlin:20180115T223000
SUMMARY:Ligue 4 Titre demi\, Ph.A Meyrin IX vs Puplinge II (2)
UID:c2f3761c-b516-4eb9-91fc-80d87c3ceb35
STATUS:CONFIRMED
LAST-MODIFIED:20180116T100458Z
DESCRIPTION:4ème ligue Hommes Titre demi Phase.A\nBegegnungs-Nr: 2\nHeim: Meyrin IX\nGast: Puplinge II\n
LOCATION:
CATEGORIES:Saison 2017/18
END:VEVENT
BEGIN:VEVENT
DTSTAMP:20260424T163222Z
DTSTART;TZID=Europe/Berlin:20180131T194500
DTEND;TZID=Europe/Berlin:20180131T224500
SUMMARY:Ligue 3 Gr.3\, Ph.B Meyrin IX vs ZZ-Lancy X (8)
UID:05b3b37c-a21b-4550-b026-99d371e6d49d
STATUS:CONFIRMED
LAST-MODIFIED:20180201T132727Z
DESCRIPTION:3ème ligue Hommes Gr. 3 Phase B\nBegegnungs-Nr: 8\nHeim: Meyrin IX\nGast: ZZ-Lancy X\n
LOCATION:
CATEGORIES:Saison 2017/18
END:VEVENT
BEGIN:VEVENT
DTSTAMP:20260424T163222Z
DTSTART;TZID=Europe/Berlin:20180418T194500
DTEND;TZID=Europe/Berlin:20180418T224500
SUMMARY:Ligue 3 Gr.3\, Ph.B Meyrin IX vs Rapid-Genève III (28)
UID:ba81c2ab-a2be-43ae-8db8-df6aa7f57833
STATUS:CONFIRMED
LAST-MODIFIED:20180419T120331Z
DESCRIPTION:3ème ligue Hommes Gr. 3 Phase B\nBegegnungs-Nr: 28\nHeim: Meyrin IX\nGast: Rapid-Genève III\n
LOCATION:
CATEGORIES:Saison 2017/18
END:VEVENT
BEGIN:VEVENT
DTSTAMP:20260424T163222Z
DTSTART;TZID=Europe/Berlin:20171019T194500
DTEND;TZID=Europe/Berlin:20171019T224500
SUMMARY:Ligue 4 Gr.6\, Ph. A Meyrin IX vs UGS-Chênois XI (10)
UID:6010be51-5818-5356-e053-1fc7a80a74f7
STATUS:CONFIRMED
LAST-MODIFIED:20171020T072132Z
DESCRIPTION:4ème ligue Hommes Gr. 6 Phase A\nBegegnungs-Nr: 10\nHeim: Meyrin IX\nGast: UGS-Chênois XI\n
LOCATION:
CATEGORIES:Saison 2017/18
END:VEVENT
BEGIN:VEVENT
DTSTAMP:20260424T163222Z
DTSTART;TZID=Europe/Berlin:20171130T194500
DTEND;TZID=Europe/Berlin:20171130T224500
SUMMARY:Ligue 4 Gr.6\, Ph. A Meyrin IX vs Veyrier VIII (15)
UID:6010be51-59b3-5356-e053-1fc7a80a74f7
STATUS:CONFIRMED
LAST-MODIFIED:20171201T174826Z
DESCRIPTION:4ème ligue Hommes Gr. 6 Phase A\nBegegnungs-Nr: 15\nHeim: Meyrin IX\nGast: Veyrier VIII\n
LOCATION:
CATEGORIES:Saison 2017/18
END:VEVENT
BEGIN:VEVENT
DTSTAMP:20260424T163222Z
DTSTART;TZID=Europe/Berlin:20171109T194500
DTEND;TZID=Europe/Berlin:20171109T224500
SUMMARY:Ligue 4 Gr.6\, Ph. A Meyrin IX vs Rapid-Genève V (12)
UID:6010be51-59b4-5356-e053-1fc7a80a74f7
STATUS:CONFIRMED
LAST-MODIFIED:20171110T171932Z
DESCRIPTION:4ème ligue Hommes Gr. 6 Phase A\nBegegnungs-Nr: 12\nHeim: Meyrin IX\nGast: Rapid-Genève V\n
LOCATION:
CATEGORIES:Saison 2017/18
END:VEVENT
BEGIN:VEVENT
DTSTAMP:20260424T163222Z
DTSTART;TZID=Europe/Berlin:20171207T194500
DTEND;TZID=Europe/Berlin:20171207T224500
SUMMARY:Ligue 4 Gr.6\, Ph. A Meyrin IX vs Vernier IV (17)
UID:6010be51-59b7-5356-e053-1fc7a80a74f7
STATUS:CONFIRMED
LAST-MODIFIED:20171208T160652Z
DESCRIPTION:4ème ligue Hommes Gr. 6 Phase A\nBegegnungs-Nr: 17\nHeim: Meyrin IX\nGast: Vernier IV\n
LOCATION:
CATEGORIES:Saison 2017/18
END:VEVENT
BEGIN:VEVENT
DTSTAMP:20260424T163222Z
DTSTART;TZID=Europe/Berlin:20180314T194500
DTEND;TZID=Europe/Berlin:20180314T224500
SUMMARY:Ligue 3 Gr.3\, Ph.B Meyrin IX vs Versoix VII (20)
UID:178e12d3-a91b-4aa8-b16b-3e636e427f08
STATUS:CONFIRMED
LAST-MODIFIED:20180315T162327Z
DESCRIPTION:3ème ligue Hommes Gr. 3 Phase B\nBegegnungs-Nr: 20\nHeim: Meyrin IX\nGast: Versoix VII\n
LOCATION:
CATEGORIES:Saison 2017/18
END:VEVENT
BEGIN:VEVENT
DTSTAMP:20260424T163222Z
DTSTART;TZID=Europe/Berlin:20180110T194500
DTEND;TZID=Europe/Berlin:20180110T224500
SUMMARY:Ligue 3 Gr.3\, Ph.B Meyrin IX vs Bernex (2)
UID:b3a2a12e-089a-4ef8-b977-c3ff2daf9948
STATUS:CONFIRMED
LAST-MODIFIED:20180111T174013Z
DESCRIPTION:3ème ligue Hommes Gr. 3 Phase B\nBegegnungs-Nr: 2\nHeim: Meyrin IX\nGast: Bernex\n
LOCATION:
CATEGORIES:Saison 2017/18
END:VEVENT
BEGIN:VEVENT
DTSTAMP:20260424T163222Z
DTSTART;TZID=Europe/Berlin:20180207T194500
DTEND;TZID=Europe/Berlin:20180207T224500
SUMMARY:Ligue 3 Gr.3\, Ph.B Meyrin IX vs Carouge V (12)
UID:2056ff01-09f1-4b2b-9cd6-037479b00690
STATUS:CONFIRMED
LAST-MODIFIED:20180208T135422Z
DESCRIPTION:3ème ligue Hommes Gr. 3 Phase B\nBegegnungs-Nr: 12\nHeim: Meyrin IX\nGast: Carouge V\n
LOCATION:
CATEGORIES:Saison 2017/18
END:VEVENT
BEGIN:VEVENT
DTSTAMP:20260424T163222Z
DTSTART;TZID=Europe/Berlin:20170928T194500
DTEND;TZID=Europe/Berlin:20170928T224500
SUMMARY:Ligue 4 Gr.6\, Ph. A Veyrier VIII vs Meyrin IX (5)
UID:6010be51-5813-5356-e053-1fc7a80a74f7
STATUS:CONFIRMED
LAST-MODIFIED:20170929T074008Z
DESCRIPTION:4ème ligue Hommes Gr. 6 Phase A\nBegegnungs-Nr: 5\nHeim: Veyrier VIII\nGast: Meyrin IX\n
LOCATION:
CATEGORIES:Saison 2017/18
END:VEVENT
BEGIN:VEVENT
DTSTAMP:20260424T163222Z
DTSTART;TZID=Europe/Berlin:20171012T194500
DTEND;TZID=Europe/Berlin:20171012T224500
SUMMARY:Ligue 4 Gr.6\, Ph. A Vernier IV vs Meyrin IX (7)
UID:6010be51-5815-5356-e053-1fc7a80a74f7
STATUS:CONFIRMED
LAST-MODIFIED:20171013T161923Z
DESCRIPTION:4ème ligue Hommes Gr. 6 Phase A\nBegegnungs-Nr: 7\nHeim: Vernier IV\nGast: Meyrin IX\n
LOCATION:
CATEGORIES:Saison 2017/18
END:VEVENT
BEGIN:VEVENT
DTSTAMP:20260424T163222Z
DTSTART;TZID=Europe/Berlin:20170914T194500
DTEND;TZID=Europe/Berlin:20170914T224500
SUMMARY:Ligue 4 Gr.6\, Ph. A Rapid-Genève V vs Meyrin IX (2)
UID:6010be51-581b-5356-e053-1fc7a80a74f7
STATUS:CONFIRMED
LAST-MODIFIED:20170915T201554Z
DESCRIPTION:4ème ligue Hommes Gr. 6 Phase A\nBegegnungs-Nr: 2\nHeim: Rapid-Genève V\nGast: Meyrin IX\n
LOCATION:
CATEGORIES:Saison 2017/18
END:VEVENT
BEGIN:VEVENT
DTSTAMP:20260424T163222Z
DTSTART;TZID=Europe/Berlin:20171214T194500
DTEND;TZID=Europe/Berlin:20171214T224500
SUMMARY:Ligue 4 Gr.6\, Ph. A UGS-Chênois XI vs Meyrin IX (20)
UID:6010be51-59b6-5356-e053-1fc7a80a74f7
STATUS:CONFIRMED
LAST-MODIFIED:20171216T102710Z
DESCRIPTION:4ème ligue Hommes Gr. 6 Phase A\nBegegnungs-Nr: 20\nHeim: UGS-Chênois XI\nGast: Meyrin IX\n
LOCATION:
CATEGORIES:Saison 2017/18
END:VEVENT
BEGIN:VEVENT
DTSTAMP:20260424T163222Z
DTSTART;TZID=Europe/Berlin:20180117T194500
DTEND;TZID=Europe/Berlin:20180117T224500
SUMMARY:Ligue 3 Gr.3\, Ph.B Versoix VII vs Meyrin IX (5)
UID:8fa0c767-68b9-40dd-b880-f1e19fa97805
STATUS:CONFIRMED
LAST-MODIFIED:20180118T164955Z
DESCRIPTION:3ème ligue Hommes Gr. 3 Phase B\nBegegnungs-Nr: 5\nHeim: Versoix VII\nGast: Meyrin IX\n
LOCATION:
CATEGORIES:Saison 2017/18
END:VEVENT
BEGIN:VEVENT
DTSTAMP:20260424T163222Z
DTSTART;TZID=Europe/Berlin:20180411T194500
DTEND;TZID=Europe/Berlin:20180411T224500
SUMMARY:Ligue 3 Gr.3\, Ph.B Carouge V vs Meyrin IX (27)
UID:134acb60-ac61-45f8-bbfa-18fe199e82b6
STATUS:CONFIRMED
LAST-MODIFIED:20180412T121155Z
DESCRIPTION:3ème ligue Hommes Gr. 3 Phase B\nBegegnungs-Nr: 27\nHeim: Carouge V\nGast: Meyrin IX\n
LOCATION:
CATEGORIES:Saison 2017/18
END:VEVENT
BEGIN:VEVENT
DTSTAMP:20260424T163222Z
DTSTART;TZID=Europe/Berlin:20180321T201500
DTEND;TZID=Europe/Berlin:20180321T231500
SUMMARY:Ligue 3 Gr.3\, Ph.B ZZ-Lancy X vs Meyrin IX (23)
UID:5beb992f-03aa-4723-a13f-748cea1f4d1f
STATUS:CONFIRMED
LAST-MODIFIED:20180322T183308Z
DESCRIPTION:3ème ligue Hommes Gr. 3 Phase B\nBegegnungs-Nr: 23\nHeim: ZZ-Lancy X\nGast: Meyrin IX\n\nAdresse: Avenue du Curé-Baud 40\, 1212 Grand-Lancy\n
LOCATION:Avenue du Curé-Baud 40\, 1212 Grand-Lancy
CATEGORIES:Saison 2017/18
END:VEVENT
BEGIN:VEVENT
DTSTAMP:20260424T163222Z
DTSTART;TZID=Europe/Berlin:20180307T194500
DTEND;TZID=Europe/Berlin:20180307T224500
SUMMARY:Ligue 3 Gr.3\, Ph.B Bernex vs Meyrin IX (17)
UID:a1d61c85-efce-4700-bda8-6e0c5c0240b8
STATUS:CONFIRMED
LAST-MODIFIED:20180308T205738Z
DESCRIPTION:3ème ligue Hommes Gr. 3 Phase B\nBegegnungs-Nr: 17\nHeim: Bernex\nGast: Meyrin IX\n\nAdresse: Chemin de Saule 120\, 1233 Bernex\n
LOCATION:Chemin de Saule 120\, 1233 Bernex
CATEGORIES:Saison 2017/18
END:VEVENT
BEGIN:VEVENT
DTSTAMP:20260424T163222Z
DTSTART;TZID=Europe/Berlin:20180228T194500
DTEND;TZID=Europe/Berlin:20180228T224500
SUMMARY:Ligue 3 Gr.3\, Ph.B Rapid-Genève III vs Meyrin IX (13)
UID:d6827a07-9055-4f29-b947-5ae9d4df9881
STATUS:CONFIRMED
LAST-MODIFIED:20180301T135918Z
DESCRIPTION:3ème ligue Hommes Gr. 3 Phase B\nBegegnungs-Nr: 13\nHeim: Rapid-Genève III\nGast: Meyrin IX\n
LOCATION:
CATEGORIES:Saison 2017/18
END:VEVENT
END:VCALENDAR
