BEGIN:VCALENDAR
PRODID:-//nuDatenautomaten//framework iCal4j //DE
VERSION:2.0
CALSCALE:GREGORIAN
BEGIN:VTIMEZONE
TZID:Europe/Berlin
LAST-MODIFIED:20260306T231828Z
TZURL:https://www.tzurl.org/zoneinfo/Europe/Berlin
X-LIC-LOCATION:Europe/Berlin
X-PROLEPTIC-TZNAME:LMT
BEGIN:STANDARD
TZNAME:CET
TZOFFSETFROM:+005328
TZOFFSETTO:+0100
DTSTART:18930401T000000
END:STANDARD
BEGIN:DAYLIGHT
TZNAME:CEST
TZOFFSETFROM:+0100
TZOFFSETTO:+0200
DTSTART:19160430T230000
RDATE:19400401T020000
RDATE:19430329T020000
RDATE:19460414T020000
RDATE:19470406T030000
RDATE:19480418T020000
RDATE:19490410T020000
RDATE:19800406T020000
END:DAYLIGHT
BEGIN:STANDARD
TZNAME:CET
TZOFFSETFROM:+0200
TZOFFSETTO:+0100
DTSTART:19161001T010000
RDATE:19421102T030000
RDATE:19431004T030000
RDATE:19441002T030000
RDATE:19451118T030000
RDATE:19461007T030000
END:STANDARD
BEGIN:DAYLIGHT
TZNAME:CEST
TZOFFSETFROM:+0100
TZOFFSETTO:+0200
DTSTART:19170416T020000
RRULE:FREQ=YEARLY;UNTIL=19180415T010000Z;BYMONTH=4;BYDAY=3MO
END:DAYLIGHT
BEGIN:STANDARD
TZNAME:CET
TZOFFSETFROM:+0200
TZOFFSETTO:+0100
DTSTART:19170917T030000
RRULE:FREQ=YEARLY;UNTIL=19180916T010000Z;BYMONTH=9;BYDAY=3MO
END:STANDARD
BEGIN:DAYLIGHT
TZNAME:CEST
TZOFFSETFROM:+0100
TZOFFSETTO:+0200
DTSTART:19440403T020000
RRULE:FREQ=YEARLY;UNTIL=19450402T010000Z;BYMONTH=4;BYDAY=1MO
END:DAYLIGHT
BEGIN:DAYLIGHT
TZNAME:CEMT
TZOFFSETFROM:+0200
TZOFFSETTO:+0300
DTSTART:19450524T020000
RDATE:19470511T030000
END:DAYLIGHT
BEGIN:DAYLIGHT
TZNAME:CEST
TZOFFSETFROM:+0300
TZOFFSETTO:+0200
DTSTART:19450924T030000
RDATE:19470629T030000
END:DAYLIGHT
BEGIN:STANDARD
TZNAME:CET
TZOFFSETFROM:+0100
TZOFFSETTO:+0100
DTSTART:19460101T000000
RDATE:19800101T000000
END:STANDARD
BEGIN:STANDARD
TZNAME:CET
TZOFFSETFROM:+0200
TZOFFSETTO:+0100
DTSTART:19471005T030000
RRULE:FREQ=YEARLY;UNTIL=19491002T010000Z;BYMONTH=10;BYDAY=1SU
END:STANDARD
BEGIN:STANDARD
TZNAME:CET
TZOFFSETFROM:+0200
TZOFFSETTO:+0100
DTSTART:19800928T030000
RRULE:FREQ=YEARLY;UNTIL=19950924T010000Z;BYMONTH=9;BYDAY=-1SU
END:STANDARD
BEGIN:DAYLIGHT
TZNAME:CEST
TZOFFSETFROM:+0100
TZOFFSETTO:+0200
DTSTART:19810329T020000
RRULE:FREQ=YEARLY;BYMONTH=3;BYDAY=-1SU
END:DAYLIGHT
BEGIN:STANDARD
TZNAME:CET
TZOFFSETFROM:+0200
TZOFFSETTO:+0100
DTSTART:19961027T030000
RRULE:FREQ=YEARLY;BYMONTH=10;BYDAY=-1SU
END:STANDARD
END:VTIMEZONE
BEGIN:VEVENT
DTSTAMP:20260424T164553Z
DTSTART;TZID=Europe/Berlin:20171207T193000
DTEND;TZID=Europe/Berlin:20171207T223000
SUMMARY:L3P1G1 Néraoui vs Omega II (0)
UID:6010be51-412c-5356-e053-1fc7a80a74f7
STATUS:CONFIRMED
LAST-MODIFIED:20171212T083522Z
DESCRIPTION:3ème ligue phase 1 groupe 1\nBegegnungs-Nr: 0\nHeim: Néraoui\nGast: Omega II\n\nAdresse: Rue du collège 6\, 2103 Noiraigue\n
LOCATION:Rue du collège 6\, 2103 Noiraigue
CATEGORIES:Saison 2017/18
END:VEVENT
BEGIN:VEVENT
DTSTAMP:20260424T164553Z
DTSTART;TZID=Europe/Berlin:20170907T194500
DTEND;TZID=Europe/Berlin:20170907T224500
SUMMARY:L3P1G1 Néraoui vs Delémont VII (0)
UID:6010be51-4c09-5356-e053-1fc7a80a74f7
STATUS:CONFIRMED
LAST-MODIFIED:20170909T094353Z
DESCRIPTION:3ème ligue phase 1 groupe 1\nBegegnungs-Nr: 0\nHeim: Néraoui\nGast: Delémont VII\n\nAdresse: Rue du collège 6\, 2103 Noiraigue\n
LOCATION:Rue du collège 6\, 2103 Noiraigue
CATEGORIES:Saison 2017/18
END:VEVENT
BEGIN:VEVENT
DTSTAMP:20260424T164553Z
DTSTART;TZID=Europe/Berlin:20171108T193000
DTEND;TZID=Europe/Berlin:20171108T223000
SUMMARY:L3P1G1 Néraoui vs Tramelan III (0)
UID:6010be51-4c44-5356-e053-1fc7a80a74f7
STATUS:CONFIRMED
LAST-MODIFIED:20171112T092715Z
DESCRIPTION:3ème ligue phase 1 groupe 1\nBegegnungs-Nr: 0\nHeim: Néraoui\nGast: Tramelan III\n\nAdresse: Rue du collège 6\, 2103 Noiraigue\n
LOCATION:Rue du collège 6\, 2103 Noiraigue
CATEGORIES:Saison 2017/18
END:VEVENT
BEGIN:VEVENT
DTSTAMP:20260424T164553Z
DTSTART;TZID=Europe/Berlin:20171102T193000
DTEND;TZID=Europe/Berlin:20171102T223000
SUMMARY:L3P1G1 Néraoui vs Nugerol-Le Landeron III (0)
UID:6010be51-4c4a-5356-e053-1fc7a80a74f7
STATUS:CONFIRMED
LAST-MODIFIED:20171104T115653Z
DESCRIPTION:3ème ligue phase 1 groupe 1\nBegegnungs-Nr: 0\nHeim: Néraoui\nGast: Nugerol-Le Landeron III\n\nAdresse: Rue du collège 6\, 2103 Noiraigue\n
LOCATION:Rue du collège 6\, 2103 Noiraigue
CATEGORIES:Saison 2017/18
END:VEVENT
BEGIN:VEVENT
DTSTAMP:20260424T164553Z
DTSTART;TZID=Europe/Berlin:20180412T193000
DTEND;TZID=Europe/Berlin:20180412T223000
SUMMARY:L4P2G1 Néraoui vs Centre Portugais (0)
UID:27bd8db8-2e56-4191-8897-6cc038f40361
STATUS:CONFIRMED
LAST-MODIFIED:20180415T090058Z
DESCRIPTION:4ème ligue phase 2 groupe 1\nBegegnungs-Nr: 0\nHeim: Néraoui\nGast: Centre Portugais\n\nAdresse: Rue du collège 6\, 2103 Noiraigue\n
LOCATION:Rue du collège 6\, 2103 Noiraigue
CATEGORIES:Saison 2017/18
END:VEVENT
BEGIN:VEVENT
DTSTAMP:20260424T164553Z
DTSTART;TZID=Europe/Berlin:20180419T193000
DTEND;TZID=Europe/Berlin:20180419T223000
SUMMARY:L4P2G1 Néraoui vs Omega V (0)
UID:adf6d4a6-32b6-41d1-ab08-baadf48589ac
STATUS:CONFIRMED
LAST-MODIFIED:20180422T080603Z
DESCRIPTION:4ème ligue phase 2 groupe 1\nBegegnungs-Nr: 0\nHeim: Néraoui\nGast: Omega V\n\nAdresse: Rue du collège 6\, 2103 Noiraigue\n
LOCATION:Rue du collège 6\, 2103 Noiraigue
CATEGORIES:Saison 2017/18
END:VEVENT
BEGIN:VEVENT
DTSTAMP:20260424T164553Z
DTSTART;TZID=Europe/Berlin:20180508T191500
DTEND;TZID=Europe/Berlin:20180508T221500
SUMMARY:L4P2G1 Néraoui vs Coffrane II (0)
UID:f8b999ce-a418-46f1-8177-07178f2b7b66
STATUS:CONFIRMED
LAST-MODIFIED:20180514T211301Z
DESCRIPTION:4ème ligue phase 2 groupe 1\nBegegnungs-Nr: 0\nHeim: Néraoui\nGast: Coffrane II\n\nAdresse: Rue du collège 6\, 2103 Noiraigue\n
LOCATION:Rue du collège 6\, 2103 Noiraigue
CATEGORIES:Saison 2017/18
END:VEVENT
BEGIN:VEVENT
DTSTAMP:20260424T164553Z
DTSTART;TZID=Europe/Berlin:20180222T193000
DTEND;TZID=Europe/Berlin:20180222T223000
SUMMARY:L4P2G1 Néraoui vs Omega VI (0)
UID:75b3d4fb-121e-4597-a2f3-731506a53b57
STATUS:CONFIRMED
LAST-MODIFIED:20180225T151936Z
DESCRIPTION:4ème ligue phase 2 groupe 1\nBegegnungs-Nr: 0\nHeim: Néraoui\nGast: Omega VI\n\nAdresse: Rue du collège 6\, 2103 Noiraigue\n
LOCATION:Rue du collège 6\, 2103 Noiraigue
CATEGORIES:Saison 2017/18
END:VEVENT
BEGIN:VEVENT
DTSTAMP:20260424T164553Z
DTSTART;TZID=Europe/Berlin:20180223T200000
DTEND;TZID=Europe/Berlin:20180223T230000
SUMMARY:L4P2G1 Moutier IV vs Néraoui (0)
UID:6b95516e-dd5b-446f-b61a-1df1388049c5
STATUS:CONFIRMED
LAST-MODIFIED:20180226T103500Z
DESCRIPTION:4ème ligue phase 2 groupe 1\nBegegnungs-Nr: 0\nHeim: Moutier IV\nGast: Néraoui\n\nAdresse: Place Beseran\, 2740 Moutier\n
LOCATION:Place Beseran\, 2740 Moutier
CATEGORIES:Saison 2017/18
END:VEVENT
BEGIN:VEVENT
DTSTAMP:20260424T164553Z
DTSTART;TZID=Europe/Berlin:20170915T193000
DTEND;TZID=Europe/Berlin:20170915T223000
SUMMARY:L3P1G1 Hauterive II vs Néraoui (0)
UID:6010be51-4c41-5356-e053-1fc7a80a74f7
STATUS:CONFIRMED
LAST-MODIFIED:20170916T091435Z
DESCRIPTION:3ème ligue phase 1 groupe 1\nBegegnungs-Nr: 0\nHeim: Hauterive II\nGast: Néraoui\n\nAdresse: Rue des Longschamps 10\, 2068 Hauterive NE\n
LOCATION:Rue des Longschamps 10\, 2068 Hauterive NE
CATEGORIES:Saison 2017/18
END:VEVENT
BEGIN:VEVENT
DTSTAMP:20260424T164553Z
DTSTART;TZID=Europe/Berlin:20171016T201500
DTEND;TZID=Europe/Berlin:20171016T231500
SUMMARY:L3P1G1 Coffrane III vs Néraoui (0)
UID:6010be51-4c47-5356-e053-1fc7a80a74f7
STATUS:CONFIRMED
LAST-MODIFIED:20171018T101538Z
DESCRIPTION:3ème ligue phase 1 groupe 1\nBegegnungs-Nr: 0\nHeim: Coffrane III\nGast: Néraoui\n\nAdresse: Rue du Collège 31\, 2207 Coffrane\n
LOCATION:Rue du Collège 31\, 2207 Coffrane
CATEGORIES:Saison 2017/18
END:VEVENT
BEGIN:VEVENT
DTSTAMP:20260424T164553Z
DTSTART;TZID=Europe/Berlin:20171114T194500
DTEND;TZID=Europe/Berlin:20171114T224500
SUMMARY:L3P1G1 Tavannes vs Néraoui (0)
UID:6010be51-5899-5356-e053-1fc7a80a74f7
STATUS:CONFIRMED
LAST-MODIFIED:20171118T110826Z
DESCRIPTION:3ème ligue phase 1 groupe 1\nBegegnungs-Nr: 0\nHeim: Tavannes\nGast: Néraoui\n\nAdresse: Sources 1\, 2710 Tavannes\n
LOCATION:Sources 1\, 2710 Tavannes
CATEGORIES:Saison 2017/18
END:VEVENT
BEGIN:VEVENT
DTSTAMP:20260424T164553Z
DTSTART;TZID=Europe/Berlin:20180309T200000
DTEND;TZID=Europe/Berlin:20180309T230000
SUMMARY:L4P2G1 La Chaux-de-Fonds VII vs Néraoui (0)
UID:ccde6c89-0e44-45d4-a468-f6e8197a0e19
STATUS:CONFIRMED
LAST-MODIFIED:20180313T104333Z
DESCRIPTION:4ème ligue phase 2 groupe 1\nBegegnungs-Nr: 0\nHeim: La Chaux-de-Fonds VII\nGast: Néraoui\n\nAdresse: Rue du Docteur-Kern 14\, 2300 La Chaux-de-Fonds\n
LOCATION:Rue du Docteur-Kern 14\, 2300 La Chaux-de-Fonds
CATEGORIES:Saison 2017/18
END:VEVENT
BEGIN:VEVENT
DTSTAMP:20260424T164553Z
DTSTART;TZID=Europe/Berlin:20180326T194500
DTEND;TZID=Europe/Berlin:20180326T224500
SUMMARY:L4P2G1 Tramelan III vs Néraoui (0)
UID:27f4bca1-9832-4da6-ab1f-2259f7cdbb23
STATUS:CONFIRMED
LAST-MODIFIED:20180327T080020Z
DESCRIPTION:4ème ligue phase 2 groupe 1\nBegegnungs-Nr: 0\nHeim: Tramelan III\nGast: Néraoui\n\nAdresse: Rue du Collège 13\, 2720 Tramelan\n
LOCATION:Rue du Collège 13\, 2720 Tramelan
CATEGORIES:Saison 2017/18
END:VEVENT
BEGIN:VEVENT
DTSTAMP:20260424T164553Z
DTSTART;TZID=Europe/Berlin:20180215T194500
DTEND;TZID=Europe/Berlin:20180215T224500
SUMMARY:L4P2G1 Porrentruy III vs Néraoui (0)
UID:13a30c61-b3e3-4f1a-8e4c-bf93227b206b
STATUS:CONFIRMED
LAST-MODIFIED:20180221T115238Z
DESCRIPTION:4ème ligue phase 2 groupe 1\nBegegnungs-Nr: 0\nHeim: Porrentruy III\nGast: Néraoui\n\nAdresse: Rue du Banné 14\, 2900 Porrentruy\n
LOCATION:Rue du Banné 14\, 2900 Porrentruy
CATEGORIES:Saison 2017/18
END:VEVENT
END:VCALENDAR
