BEGIN:VCALENDAR
PRODID:-//nuDatenautomaten//framework iCal4j //DE
VERSION:2.0
CALSCALE:GREGORIAN
BEGIN:VTIMEZONE
TZID:Europe/Berlin
LAST-MODIFIED:20260306T231828Z
TZURL:https://www.tzurl.org/zoneinfo/Europe/Berlin
X-LIC-LOCATION:Europe/Berlin
X-PROLEPTIC-TZNAME:LMT
BEGIN:STANDARD
TZNAME:CET
TZOFFSETFROM:+005328
TZOFFSETTO:+0100
DTSTART:18930401T000000
END:STANDARD
BEGIN:DAYLIGHT
TZNAME:CEST
TZOFFSETFROM:+0100
TZOFFSETTO:+0200
DTSTART:19160430T230000
RDATE:19400401T020000
RDATE:19430329T020000
RDATE:19460414T020000
RDATE:19470406T030000
RDATE:19480418T020000
RDATE:19490410T020000
RDATE:19800406T020000
END:DAYLIGHT
BEGIN:STANDARD
TZNAME:CET
TZOFFSETFROM:+0200
TZOFFSETTO:+0100
DTSTART:19161001T010000
RDATE:19421102T030000
RDATE:19431004T030000
RDATE:19441002T030000
RDATE:19451118T030000
RDATE:19461007T030000
END:STANDARD
BEGIN:DAYLIGHT
TZNAME:CEST
TZOFFSETFROM:+0100
TZOFFSETTO:+0200
DTSTART:19170416T020000
RRULE:FREQ=YEARLY;UNTIL=19180415T010000Z;BYMONTH=4;BYDAY=3MO
END:DAYLIGHT
BEGIN:STANDARD
TZNAME:CET
TZOFFSETFROM:+0200
TZOFFSETTO:+0100
DTSTART:19170917T030000
RRULE:FREQ=YEARLY;UNTIL=19180916T010000Z;BYMONTH=9;BYDAY=3MO
END:STANDARD
BEGIN:DAYLIGHT
TZNAME:CEST
TZOFFSETFROM:+0100
TZOFFSETTO:+0200
DTSTART:19440403T020000
RRULE:FREQ=YEARLY;UNTIL=19450402T010000Z;BYMONTH=4;BYDAY=1MO
END:DAYLIGHT
BEGIN:DAYLIGHT
TZNAME:CEMT
TZOFFSETFROM:+0200
TZOFFSETTO:+0300
DTSTART:19450524T020000
RDATE:19470511T030000
END:DAYLIGHT
BEGIN:DAYLIGHT
TZNAME:CEST
TZOFFSETFROM:+0300
TZOFFSETTO:+0200
DTSTART:19450924T030000
RDATE:19470629T030000
END:DAYLIGHT
BEGIN:STANDARD
TZNAME:CET
TZOFFSETFROM:+0100
TZOFFSETTO:+0100
DTSTART:19460101T000000
RDATE:19800101T000000
END:STANDARD
BEGIN:STANDARD
TZNAME:CET
TZOFFSETFROM:+0200
TZOFFSETTO:+0100
DTSTART:19471005T030000
RRULE:FREQ=YEARLY;UNTIL=19491002T010000Z;BYMONTH=10;BYDAY=1SU
END:STANDARD
BEGIN:STANDARD
TZNAME:CET
TZOFFSETFROM:+0200
TZOFFSETTO:+0100
DTSTART:19800928T030000
RRULE:FREQ=YEARLY;UNTIL=19950924T010000Z;BYMONTH=9;BYDAY=-1SU
END:STANDARD
BEGIN:DAYLIGHT
TZNAME:CEST
TZOFFSETFROM:+0100
TZOFFSETTO:+0200
DTSTART:19810329T020000
RRULE:FREQ=YEARLY;BYMONTH=3;BYDAY=-1SU
END:DAYLIGHT
BEGIN:STANDARD
TZNAME:CET
TZOFFSETFROM:+0200
TZOFFSETTO:+0100
DTSTART:19961027T030000
RRULE:FREQ=YEARLY;BYMONTH=10;BYDAY=-1SU
END:STANDARD
END:VTIMEZONE
BEGIN:VEVENT
DTSTAMP:20260424T181714Z
DTSTART;TZID=Europe/Berlin:20180108T200000
DTEND;TZID=Europe/Berlin:20180108T230000
SUMMARY:He 3. Liga Gr. 2 Buochs vs Sarnen III (0)
UID:6010be51-3f68-5356-e053-1fc7a80a74f7
STATUS:CONFIRMED
LAST-MODIFIED:20180112T084843Z
DESCRIPTION:3. Liga Herren Gruppe 2\nBegegnungs-Nr: 0\nHeim: Buochs\nGast: Sarnen III\n\nAdresse: -\, Buochs\n
LOCATION:-\, Buochs
CATEGORIES:Saison 2017/18
END:VEVENT
BEGIN:VEVENT
DTSTAMP:20260424T181714Z
DTSTART;TZID=Europe/Berlin:20180129T200000
DTEND;TZID=Europe/Berlin:20180129T230000
SUMMARY:He 3. Liga Gr. 2 Buochs vs Willisau (0)
UID:6010be51-3f71-5356-e053-1fc7a80a74f7
STATUS:CONFIRMED
LAST-MODIFIED:20180131T215336Z
DESCRIPTION:3. Liga Herren Gruppe 2\nBegegnungs-Nr: 0\nHeim: Buochs\nGast: Willisau\n\nAdresse: -\, Buochs\n
LOCATION:-\, Buochs
CATEGORIES:Saison 2017/18
END:VEVENT
BEGIN:VEVENT
DTSTAMP:20260424T181714Z
DTSTART;TZID=Europe/Berlin:20171218T200000
DTEND;TZID=Europe/Berlin:20171218T230000
SUMMARY:He 3. Liga Gr. 2 Buochs vs Rothenburg V (0)
UID:6010be51-40ee-5356-e053-1fc7a80a74f7
STATUS:CONFIRMED
LAST-MODIFIED:20171221T214939Z
DESCRIPTION:3. Liga Herren Gruppe 2\nBegegnungs-Nr: 0\nHeim: Buochs\nGast: Rothenburg V\n\nAdresse: -\, Buochs\n
LOCATION:-\, Buochs
CATEGORIES:Saison 2017/18
END:VEVENT
BEGIN:VEVENT
DTSTAMP:20260424T181714Z
DTSTART;TZID=Europe/Berlin:20170918T200000
DTEND;TZID=Europe/Berlin:20170918T230000
SUMMARY:He 3. Liga Gr. 2 Buochs vs Dierikon-Ebikon III (0)
UID:6010be51-41fa-5356-e053-1fc7a80a74f7
STATUS:CONFIRMED
LAST-MODIFIED:20170924T152442Z
DESCRIPTION:3. Liga Herren Gruppe 2\nBegegnungs-Nr: 0\nHeim: Buochs\nGast: Dierikon-Ebikon III\n\nAdresse: -\, Buochs\n
LOCATION:-\, Buochs
CATEGORIES:Saison 2017/18
END:VEVENT
BEGIN:VEVENT
DTSTAMP:20260424T181714Z
DTSTART;TZID=Europe/Berlin:20171023T200000
DTEND;TZID=Europe/Berlin:20171023T230000
SUMMARY:He 3. Liga Gr. 2 Buochs vs Rotkreuz (0)
UID:6010be51-4237-5356-e053-1fc7a80a74f7
STATUS:CONFIRMED
LAST-MODIFIED:20171025T164304Z
DESCRIPTION:3. Liga Herren Gruppe 2\nBegegnungs-Nr: 0\nHeim: Buochs\nGast: Rotkreuz\n\nAdresse: -\, Buochs\n
LOCATION:-\, Buochs
CATEGORIES:Saison 2017/18
END:VEVENT
BEGIN:VEVENT
DTSTAMP:20260424T181714Z
DTSTART;TZID=Europe/Berlin:20171113T200000
DTEND;TZID=Europe/Berlin:20171113T230000
SUMMARY:He 3. Liga Gr. 2 Buochs vs Goldau II (0)
UID:6010be51-423b-5356-e053-1fc7a80a74f7
STATUS:CONFIRMED
LAST-MODIFIED:20171115T172617Z
DESCRIPTION:3. Liga Herren Gruppe 2\nBegegnungs-Nr: 0\nHeim: Buochs\nGast: Goldau II\n\nAdresse: -\, Buochs\n
LOCATION:-\, Buochs
CATEGORIES:Saison 2017/18
END:VEVENT
BEGIN:VEVENT
DTSTAMP:20260424T181714Z
DTSTART;TZID=Europe/Berlin:20171204T200000
DTEND;TZID=Europe/Berlin:20171204T230000
SUMMARY:He 3. Liga Gr. 2 Buochs vs Schenkon IV (0)
UID:6010be51-580b-5356-e053-1fc7a80a74f7
STATUS:CONFIRMED
LAST-MODIFIED:20171206T170006Z
DESCRIPTION:3. Liga Herren Gruppe 2\nBegegnungs-Nr: 0\nHeim: Buochs\nGast: Schenkon IV\n\nAdresse: -\, Buochs\n
LOCATION:-\, Buochs
CATEGORIES:Saison 2017/18
END:VEVENT
BEGIN:VEVENT
DTSTAMP:20260424T181714Z
DTSTART;TZID=Europe/Berlin:20171215T201500
DTEND;TZID=Europe/Berlin:20171215T231500
SUMMARY:He 3. Liga Gr. 2 Dierikon-Ebikon III vs Buochs (0)
UID:6010be51-3f63-5356-e053-1fc7a80a74f7
STATUS:CONFIRMED
LAST-MODIFIED:20171217T145315Z
DESCRIPTION:3. Liga Herren Gruppe 2\nBegegnungs-Nr: 0\nHeim: Dierikon-Ebikon III\nGast: Buochs\n\nAdresse: Rigistrasse 14\, 6036 Dierikon\n
LOCATION:Rigistrasse 14\, 6036 Dierikon
CATEGORIES:Saison 2017/18
END:VEVENT
BEGIN:VEVENT
DTSTAMP:20260424T181714Z
DTSTART;TZID=Europe/Berlin:20180109T201500
DTEND;TZID=Europe/Berlin:20180109T231500
SUMMARY:He 3. Liga Gr. 2 Rotkreuz vs Buochs (0)
UID:6010be51-3f6d-5356-e053-1fc7a80a74f7
STATUS:CONFIRMED
LAST-MODIFIED:20180112T084930Z
DESCRIPTION:3. Liga Herren Gruppe 2\nBegegnungs-Nr: 0\nHeim: Rotkreuz\nGast: Buochs\n\nAdresse: Buonaserstr. 23\, 6343 Rotkreuz\n
LOCATION:Buonaserstr. 23\, 6343 Rotkreuz
CATEGORIES:Saison 2017/18
END:VEVENT
BEGIN:VEVENT
DTSTAMP:20260424T181714Z
DTSTART;TZID=Europe/Berlin:20180222T200000
DTEND;TZID=Europe/Berlin:20180222T230000
SUMMARY:He 3. Liga Gr. 2 Goldau II vs Buochs (0)
UID:6010be51-40b6-5356-e053-1fc7a80a74f7
STATUS:CONFIRMED
LAST-MODIFIED:20180224T085243Z
DESCRIPTION:3. Liga Herren Gruppe 2\nBegegnungs-Nr: 0\nHeim: Goldau II\nGast: Buochs\n\nAdresse: Zaystrasse\, 6410 Goldau\n
LOCATION:Zaystrasse\, 6410 Goldau
CATEGORIES:Saison 2017/18
END:VEVENT
BEGIN:VEVENT
DTSTAMP:20260424T181714Z
DTSTART;TZID=Europe/Berlin:20170915T201500
DTEND;TZID=Europe/Berlin:20170915T231500
SUMMARY:He 3. Liga Gr. 2 Schenkon IV vs Buochs (0)
UID:6010be51-41f6-5356-e053-1fc7a80a74f7
STATUS:CONFIRMED
LAST-MODIFIED:20170918T162625Z
DESCRIPTION:3. Liga Herren Gruppe 2\nBegegnungs-Nr: 0\nHeim: Schenkon IV\nGast: Buochs\n6214 Schenkon\n
LOCATION:6214 Schenkon
CATEGORIES:Saison 2017/18
END:VEVENT
BEGIN:VEVENT
DTSTAMP:20260424T181714Z
DTSTART;TZID=Europe/Berlin:20171128T200000
DTEND;TZID=Europe/Berlin:20171128T230000
SUMMARY:He 3. Liga Gr. 2 Rothenburg V vs Buochs (0)
UID:6010be51-423f-5356-e053-1fc7a80a74f7
STATUS:CONFIRMED
LAST-MODIFIED:20171201T130203Z
DESCRIPTION:3. Liga Herren Gruppe 2\nBegegnungs-Nr: 0\nHeim: Rothenburg V\nGast: Buochs\n\nAdresse: Schulhausstrasse 6a\, 6023 Rothenburg\n
LOCATION:Schulhausstrasse 6a\, 6023 Rothenburg
CATEGORIES:Saison 2017/18
END:VEVENT
BEGIN:VEVENT
DTSTAMP:20260424T181714Z
DTSTART;TZID=Europe/Berlin:20171016T200000
DTEND;TZID=Europe/Berlin:20171016T230000
SUMMARY:He 3. Liga Gr. 2 Sarnen III vs Buochs (0)
UID:6010be51-59c4-5356-e053-1fc7a80a74f7
STATUS:CONFIRMED
LAST-MODIFIED:20171019T155909Z
DESCRIPTION:3. Liga Herren Gruppe 2\nBegegnungs-Nr: 0\nHeim: Sarnen III\nGast: Buochs\n\nAdresse: Rütistrasse 3\, 6060 Sarnen\n
LOCATION:Rütistrasse 3\, 6060 Sarnen
CATEGORIES:Saison 2017/18
END:VEVENT
BEGIN:VEVENT
DTSTAMP:20260424T181714Z
DTSTART;TZID=Europe/Berlin:20170925T194500
DTEND;TZID=Europe/Berlin:20170925T224500
SUMMARY:He 3. Liga Gr. 2 Willisau vs Buochs (0)
UID:6010be51-4239-5356-e053-1fc7a80a74f7
STATUS:CONFIRMED
LAST-MODIFIED:20170927T064806Z
DESCRIPTION:3. Liga Herren Gruppe 2\nBegegnungs-Nr: 0\nHeim: Willisau\nGast: Buochs\n\nAdresse: Berufsbildung-Zentrum\, 6130 Willisau\n
LOCATION:Berufsbildung-Zentrum\, 6130 Willisau
CATEGORIES:Saison 2017/18
END:VEVENT
END:VCALENDAR
