BEGIN:VCALENDAR
PRODID:-//nuDatenautomaten//framework iCal4j //DE
VERSION:2.0
CALSCALE:GREGORIAN
BEGIN:VTIMEZONE
TZID:Europe/Berlin
LAST-MODIFIED:20260306T231828Z
TZURL:https://www.tzurl.org/zoneinfo/Europe/Berlin
X-LIC-LOCATION:Europe/Berlin
X-PROLEPTIC-TZNAME:LMT
BEGIN:STANDARD
TZNAME:CET
TZOFFSETFROM:+005328
TZOFFSETTO:+0100
DTSTART:18930401T000000
END:STANDARD
BEGIN:DAYLIGHT
TZNAME:CEST
TZOFFSETFROM:+0100
TZOFFSETTO:+0200
DTSTART:19160430T230000
RDATE:19400401T020000
RDATE:19430329T020000
RDATE:19460414T020000
RDATE:19470406T030000
RDATE:19480418T020000
RDATE:19490410T020000
RDATE:19800406T020000
END:DAYLIGHT
BEGIN:STANDARD
TZNAME:CET
TZOFFSETFROM:+0200
TZOFFSETTO:+0100
DTSTART:19161001T010000
RDATE:19421102T030000
RDATE:19431004T030000
RDATE:19441002T030000
RDATE:19451118T030000
RDATE:19461007T030000
END:STANDARD
BEGIN:DAYLIGHT
TZNAME:CEST
TZOFFSETFROM:+0100
TZOFFSETTO:+0200
DTSTART:19170416T020000
RRULE:FREQ=YEARLY;UNTIL=19180415T010000Z;BYMONTH=4;BYDAY=3MO
END:DAYLIGHT
BEGIN:STANDARD
TZNAME:CET
TZOFFSETFROM:+0200
TZOFFSETTO:+0100
DTSTART:19170917T030000
RRULE:FREQ=YEARLY;UNTIL=19180916T010000Z;BYMONTH=9;BYDAY=3MO
END:STANDARD
BEGIN:DAYLIGHT
TZNAME:CEST
TZOFFSETFROM:+0100
TZOFFSETTO:+0200
DTSTART:19440403T020000
RRULE:FREQ=YEARLY;UNTIL=19450402T010000Z;BYMONTH=4;BYDAY=1MO
END:DAYLIGHT
BEGIN:DAYLIGHT
TZNAME:CEMT
TZOFFSETFROM:+0200
TZOFFSETTO:+0300
DTSTART:19450524T020000
RDATE:19470511T030000
END:DAYLIGHT
BEGIN:DAYLIGHT
TZNAME:CEST
TZOFFSETFROM:+0300
TZOFFSETTO:+0200
DTSTART:19450924T030000
RDATE:19470629T030000
END:DAYLIGHT
BEGIN:STANDARD
TZNAME:CET
TZOFFSETFROM:+0100
TZOFFSETTO:+0100
DTSTART:19460101T000000
RDATE:19800101T000000
END:STANDARD
BEGIN:STANDARD
TZNAME:CET
TZOFFSETFROM:+0200
TZOFFSETTO:+0100
DTSTART:19471005T030000
RRULE:FREQ=YEARLY;UNTIL=19491002T010000Z;BYMONTH=10;BYDAY=1SU
END:STANDARD
BEGIN:STANDARD
TZNAME:CET
TZOFFSETFROM:+0200
TZOFFSETTO:+0100
DTSTART:19800928T030000
RRULE:FREQ=YEARLY;UNTIL=19950924T010000Z;BYMONTH=9;BYDAY=-1SU
END:STANDARD
BEGIN:DAYLIGHT
TZNAME:CEST
TZOFFSETFROM:+0100
TZOFFSETTO:+0200
DTSTART:19810329T020000
RRULE:FREQ=YEARLY;BYMONTH=3;BYDAY=-1SU
END:DAYLIGHT
BEGIN:STANDARD
TZNAME:CET
TZOFFSETFROM:+0200
TZOFFSETTO:+0100
DTSTART:19961027T030000
RRULE:FREQ=YEARLY;BYMONTH=10;BYDAY=-1SU
END:STANDARD
END:VTIMEZONE
BEGIN:VEVENT
DTSTAMP:20260419T211420Z
DTSTART;TZID=Europe/Berlin:20170911T200000
DTEND;TZID=Europe/Berlin:20170911T230000
SUMMARY:ME L6 Gr 6\, Tours 1&2 Matran III vs Fribourg VIII (0)
UID:6010be51-558c-5356-e053-1fc7a80a74f7
STATUS:CONFIRMED
LAST-MODIFIED:20170918T113637Z
DESCRIPTION:6ème ligue Hommes Groupe 6\, Tours 1&2\nBegegnungs-Nr: 0\nHeim: Matran III\nGast: Fribourg VIII\n\nAdresse: Route de l'Ecole\, 1753 Matran\n
LOCATION:Route de l'Ecole\, 1753 Matran
CATEGORIES:Saison 2017/18
END:VEVENT
BEGIN:VEVENT
DTSTAMP:20260419T211420Z
DTSTART;TZID=Europe/Berlin:20171009T200000
DTEND;TZID=Europe/Berlin:20171009T230000
SUMMARY:ME L6 Gr 6\, Tours 1&2 Matran III vs Romont-Villaz III (0)
UID:6010be51-5592-5356-e053-1fc7a80a74f7
STATUS:CONFIRMED
LAST-MODIFIED:20171016T115510Z
DESCRIPTION:6ème ligue Hommes Groupe 6\, Tours 1&2\nBegegnungs-Nr: 0\nHeim: Matran III\nGast: Romont-Villaz III\n\nAdresse: Route de l'Ecole\, 1753 Matran\n
LOCATION:Route de l'Ecole\, 1753 Matran
CATEGORIES:Saison 2017/18
END:VEVENT
BEGIN:VEVENT
DTSTAMP:20260419T211420Z
DTSTART;TZID=Europe/Berlin:20171127T200000
DTEND;TZID=Europe/Berlin:20171127T230000
SUMMARY:ME L6 Gr 6\, Tours 1&2 Matran III vs Yvonand (0)
UID:6010be51-4ce0-5356-e053-1fc7a80a74f7
STATUS:CONFIRMED
LAST-MODIFIED:20171205T152655Z
DESCRIPTION:6ème ligue Hommes Groupe 6\, Tours 1&2\nBegegnungs-Nr: 0\nHeim: Matran III\nGast: Yvonand\n\nAdresse: Route de l'Ecole\, 1753 Matran\n
LOCATION:Route de l'Ecole\, 1753 Matran
CATEGORIES:Saison 2017/18
END:VEVENT
BEGIN:VEVENT
DTSTAMP:20260419T211420Z
DTSTART;TZID=Europe/Berlin:20171113T200000
DTEND;TZID=Europe/Berlin:20171113T230000
SUMMARY:ME L6 Gr 6\, Tours 1&2 Matran III vs Domdidier II (0)
UID:6010be51-4ce1-5356-e053-1fc7a80a74f7
STATUS:CONFIRMED
LAST-MODIFIED:20171120T153457Z
DESCRIPTION:6ème ligue Hommes Groupe 6\, Tours 1&2\nBegegnungs-Nr: 0\nHeim: Matran III\nGast: Domdidier II\n\nAdresse: Route de l'Ecole\, 1753 Matran\n
LOCATION:Route de l'Ecole\, 1753 Matran
CATEGORIES:Saison 2017/18
END:VEVENT
BEGIN:VEVENT
DTSTAMP:20260419T211420Z
DTSTART;TZID=Europe/Berlin:20170904T200000
DTEND;TZID=Europe/Berlin:20170904T230000
SUMMARY:ME L6 Gr 6\, Tours 1&2 Matran III vs Yverdon VII (0)
UID:6010be51-4d67-5356-e053-1fc7a80a74f7
STATUS:CONFIRMED
LAST-MODIFIED:20170911T153400Z
DESCRIPTION:6ème ligue Hommes Groupe 6\, Tours 1&2\nBegegnungs-Nr: 0\nHeim: Matran III\nGast: Yverdon VII\n\nAdresse: Route de l'Ecole\, 1753 Matran\n
LOCATION:Route de l'Ecole\, 1753 Matran
CATEGORIES:Saison 2017/18
END:VEVENT
BEGIN:VEVENT
DTSTAMP:20260419T211420Z
DTSTART;TZID=Europe/Berlin:20180416T200000
DTEND;TZID=Europe/Berlin:20180416T230000
SUMMARY:ME L7 Gr 3\, Tours 3&4 Matran III vs Fribourg IX (0)
UID:16260021-c924-4dc7-8ca8-0b5b5c2d3a22
STATUS:CONFIRMED
LAST-MODIFIED:20180423T153351Z
DESCRIPTION:7ème ligue Hommes Groupe 3\, Tours 3&4\nBegegnungs-Nr: 0\nHeim: Matran III\nGast: Fribourg IX\n\nAdresse: Route de l'Ecole\, 1753 Matran\n
LOCATION:Route de l'Ecole\, 1753 Matran
CATEGORIES:Saison 2017/18
END:VEVENT
BEGIN:VEVENT
DTSTAMP:20260419T211420Z
DTSTART;TZID=Europe/Berlin:20180423T200000
DTEND;TZID=Europe/Berlin:20180423T230000
SUMMARY:ME L7 Gr 3\, Tours 3&4 Matran III vs Fribourg X (0)
UID:39b4f1bb-9d03-44df-8095-195ed6fa80e3
STATUS:CONFIRMED
LAST-MODIFIED:20180430T140743Z
DESCRIPTION:7ème ligue Hommes Groupe 3\, Tours 3&4\nBegegnungs-Nr: 0\nHeim: Matran III\nGast: Fribourg X\n\nAdresse: Route de l'Ecole\, 1753 Matran\n
LOCATION:Route de l'Ecole\, 1753 Matran
CATEGORIES:Saison 2017/18
END:VEVENT
BEGIN:VEVENT
DTSTAMP:20260419T211420Z
DTSTART;TZID=Europe/Berlin:20180219T200000
DTEND;TZID=Europe/Berlin:20180219T230000
SUMMARY:ME L7 Gr 3\, Tours 3&4 Matran III vs Château d'Oex II (0)
UID:6927785a-259f-4bd4-adfe-5d0e1221edbd
STATUS:CONFIRMED
LAST-MODIFIED:20180226T163707Z
DESCRIPTION:7ème ligue Hommes Groupe 3\, Tours 3&4\nBegegnungs-Nr: 0\nHeim: Matran III\nGast: Château d'Oex II\n\nAdresse: Route de l'Ecole\, 1753 Matran\n
LOCATION:Route de l'Ecole\, 1753 Matran
CATEGORIES:Saison 2017/18
END:VEVENT
BEGIN:VEVENT
DTSTAMP:20260419T211420Z
DTSTART;TZID=Europe/Berlin:20180115T200000
DTEND;TZID=Europe/Berlin:20180115T230000
SUMMARY:ME L7 Gr 3\, Tours 3&4 Matran III vs Matran IV (0)
UID:14791119-672a-4d96-8aec-4246a9017fb2
STATUS:CONFIRMED
LAST-MODIFIED:20180122T173004Z
DESCRIPTION:7ème ligue Hommes Groupe 3\, Tours 3&4\nBegegnungs-Nr: 0\nHeim: Matran III\nGast: Matran IV\n\nAdresse: Route de l'Ecole\, 1753 Matran\n
LOCATION:Route de l'Ecole\, 1753 Matran
CATEGORIES:Saison 2017/18
END:VEVENT
BEGIN:VEVENT
DTSTAMP:20260419T211420Z
DTSTART;TZID=Europe/Berlin:20170829T194500
DTEND;TZID=Europe/Berlin:20170829T224500
SUMMARY:ME L6 Gr 6\, Tours 1&2 Romont-Villaz III vs Matran III (0)
UID:6010be51-5588-5356-e053-1fc7a80a74f7
STATUS:CONFIRMED
LAST-MODIFIED:20170911T150403Z
DESCRIPTION:6ème ligue Hommes Groupe 6\, Tours 1&2\nBegegnungs-Nr: 0\nHeim: Romont-Villaz III\nGast: Matran III\n\nAdresse: Route de la Gare 5\, 1690 Villaz-St-Pierre\n
LOCATION:Route de la Gare 5\, 1690 Villaz-St-Pierre
CATEGORIES:Saison 2017/18
END:VEVENT
BEGIN:VEVENT
DTSTAMP:20260419T211420Z
DTSTART;TZID=Europe/Berlin:20171004T194500
DTEND;TZID=Europe/Berlin:20171004T224500
SUMMARY:ME L6 Gr 6\, Tours 1&2 Yvonand vs Matran III (0)
UID:6010be51-558f-5356-e053-1fc7a80a74f7
STATUS:CONFIRMED
LAST-MODIFIED:20171010T131112Z
DESCRIPTION:6ème ligue Hommes Groupe 6\, Tours 1&2\nBegegnungs-Nr: 0\nHeim: Yvonand\nGast: Matran III\n\nAdresse: Salle de rythmique\, 1462 Yvonand\n
LOCATION:Salle de rythmique\, 1462 Yvonand
CATEGORIES:Saison 2017/18
END:VEVENT
BEGIN:VEVENT
DTSTAMP:20260419T211420Z
DTSTART;TZID=Europe/Berlin:20171102T191500
DTEND;TZID=Europe/Berlin:20171102T221500
SUMMARY:ME L6 Gr 6\, Tours 1&2 Fribourg VIII vs Matran III (0)
UID:6010be51-55c1-5356-e053-1fc7a80a74f7
STATUS:CONFIRMED
LAST-MODIFIED:20171108T154029Z
DESCRIPTION:6ème ligue Hommes Groupe 6\, Tours 1&2\nBegegnungs-Nr: 0\nHeim: Fribourg VIII\nGast: Matran III\n\nAdresse: Avenue Général Guisan 61\, 1700 Fribourg\n
LOCATION:Avenue Général Guisan 61\, 1700 Fribourg
CATEGORIES:Saison 2017/18
END:VEVENT
BEGIN:VEVENT
DTSTAMP:20260419T211420Z
DTSTART;TZID=Europe/Berlin:20171025T201500
DTEND;TZID=Europe/Berlin:20171025T231500
SUMMARY:ME L6 Gr 6\, Tours 1&2 Yverdon VII vs Matran III (0)
UID:6010be51-4d61-5356-e053-1fc7a80a74f7
STATUS:CONFIRMED
LAST-MODIFIED:20171031T133750Z
DESCRIPTION:6ème ligue Hommes Groupe 6\, Tours 1&2\nBegegnungs-Nr: 0\nHeim: Yverdon VII\nGast: Matran III\n\nAdresse: Avenue des Quatre Marroniers 1\, 1400 Yverdon-les-Bains\n
LOCATION:Avenue des Quatre Marroniers 1\, 1400 Yverdon-les-Bains
CATEGORIES:Saison 2017/18
END:VEVENT
BEGIN:VEVENT
DTSTAMP:20260419T211420Z
DTSTART;TZID=Europe/Berlin:20170929T191500
DTEND;TZID=Europe/Berlin:20170929T221500
SUMMARY:ME L6 Gr 6\, Tours 1&2 Domdidier II vs Matran III (0)
UID:6010be51-5bfe-5356-e053-1fc7a80a74f7
STATUS:CONFIRMED
LAST-MODIFIED:20171009T135243Z
DESCRIPTION:6ème ligue Hommes Groupe 6\, Tours 1&2\nBegegnungs-Nr: 0\nHeim: Domdidier II\nGast: Matran III\n\nAdresse: Pré-de-la-Cour\, 1564 Domdidier\n
LOCATION:Pré-de-la-Cour\, 1564 Domdidier
CATEGORIES:Saison 2017/18
END:VEVENT
BEGIN:VEVENT
DTSTAMP:20260419T211420Z
DTSTART;TZID=Europe/Berlin:20180201T191500
DTEND;TZID=Europe/Berlin:20180201T221500
SUMMARY:ME L7 Gr 3\, Tours 3&4 Fribourg IX vs Matran III (0)
UID:6c8735c4-34bb-4377-bb53-da25d2eba527
STATUS:CONFIRMED
LAST-MODIFIED:20180206T164317Z
DESCRIPTION:7ème ligue Hommes Groupe 3\, Tours 3&4\nBegegnungs-Nr: 0\nHeim: Fribourg IX\nGast: Matran III\n\nAdresse: Avenue Général Guisan 61\, 1700 Fribourg\n
LOCATION:Avenue Général Guisan 61\, 1700 Fribourg
CATEGORIES:Saison 2017/18
END:VEVENT
BEGIN:VEVENT
DTSTAMP:20260419T211420Z
DTSTART;TZID=Europe/Berlin:20180216T191500
DTEND;TZID=Europe/Berlin:20180216T221500
SUMMARY:ME L7 Gr 3\, Tours 3&4 Fribourg X vs Matran III (0)
UID:e3f3ebb9-a5c9-49d2-9953-404bdb2e41eb
STATUS:CONFIRMED
LAST-MODIFIED:20180222T164427Z
DESCRIPTION:7ème ligue Hommes Groupe 3\, Tours 3&4\nBegegnungs-Nr: 0\nHeim: Fribourg X\nGast: Matran III\n\nAdresse: Avenue Général Guisan 59\, 1700 Fribourg\n
LOCATION:Avenue Général Guisan 59\, 1700 Fribourg
CATEGORIES:Saison 2017/18
END:VEVENT
BEGIN:VEVENT
DTSTAMP:20260419T211420Z
DTSTART;TZID=Europe/Berlin:20180503T201500
DTEND;TZID=Europe/Berlin:20180503T231500
SUMMARY:ME L7 Gr 3\, Tours 3&4 Château d'Oex II vs Matran III (0)
UID:1280e8a0-3ef7-4b06-907c-e5ece06e3dad
STATUS:CONFIRMED
LAST-MODIFIED:20180509T140233Z
DESCRIPTION:7ème ligue Hommes Groupe 3\, Tours 3&4\nBegegnungs-Nr: 0\nHeim: Château d'Oex II\nGast: Matran III\n\nAdresse: rte du Périsset 7\, 1660 Château d'Oex\n
LOCATION:rte du Périsset 7\, 1660 Château d'Oex
CATEGORIES:Saison 2017/18
END:VEVENT
BEGIN:VEVENT
DTSTAMP:20260419T211420Z
DTSTART;TZID=Europe/Berlin:20180305T200000
DTEND;TZID=Europe/Berlin:20180305T230000
SUMMARY:ME L7 Gr 3\, Tours 3&4 Matran IV vs Matran III (0)
UID:cc6e9dff-2b6f-421b-ae3e-3e902f5faad5
STATUS:CONFIRMED
LAST-MODIFIED:20180312T103631Z
DESCRIPTION:7ème ligue Hommes Groupe 3\, Tours 3&4\nBegegnungs-Nr: 0\nHeim: Matran IV\nGast: Matran III\n\nAdresse: Route de l'Ecole\, 1753 Matran\n
LOCATION:Route de l'Ecole\, 1753 Matran
CATEGORIES:Saison 2017/18
END:VEVENT
BEGIN:VEVENT
DTSTAMP:20260419T211420Z
DTSTART;TZID=Europe/Berlin:20180521T200000
DTEND;TZID=Europe/Berlin:20180521T230000
SUMMARY:ME L7 Finales Lausanne XII vs Matran III (1)
UID:390fa58e-1794-4ad4-a1e3-9b3235c77b8d
STATUS:CONFIRMED
LAST-MODIFIED:20180522T091123Z
DESCRIPTION:7ème ligue Hommes Finales\nBegegnungs-Nr: 1\nHeim: Lausanne XII\nGast: Matran III\n
LOCATION:
CATEGORIES:Saison 2017/18
END:VEVENT
END:VCALENDAR
