BEGIN:VCALENDAR
PRODID:-//nuDatenautomaten//framework iCal4j //DE
VERSION:2.0
CALSCALE:GREGORIAN
BEGIN:VTIMEZONE
TZID:Europe/Berlin
LAST-MODIFIED:20260306T231828Z
TZURL:https://www.tzurl.org/zoneinfo/Europe/Berlin
X-LIC-LOCATION:Europe/Berlin
X-PROLEPTIC-TZNAME:LMT
BEGIN:STANDARD
TZNAME:CET
TZOFFSETFROM:+005328
TZOFFSETTO:+0100
DTSTART:18930401T000000
END:STANDARD
BEGIN:DAYLIGHT
TZNAME:CEST
TZOFFSETFROM:+0100
TZOFFSETTO:+0200
DTSTART:19160430T230000
RDATE:19400401T020000
RDATE:19430329T020000
RDATE:19460414T020000
RDATE:19470406T030000
RDATE:19480418T020000
RDATE:19490410T020000
RDATE:19800406T020000
END:DAYLIGHT
BEGIN:STANDARD
TZNAME:CET
TZOFFSETFROM:+0200
TZOFFSETTO:+0100
DTSTART:19161001T010000
RDATE:19421102T030000
RDATE:19431004T030000
RDATE:19441002T030000
RDATE:19451118T030000
RDATE:19461007T030000
END:STANDARD
BEGIN:DAYLIGHT
TZNAME:CEST
TZOFFSETFROM:+0100
TZOFFSETTO:+0200
DTSTART:19170416T020000
RRULE:FREQ=YEARLY;UNTIL=19180415T010000Z;BYMONTH=4;BYDAY=3MO
END:DAYLIGHT
BEGIN:STANDARD
TZNAME:CET
TZOFFSETFROM:+0200
TZOFFSETTO:+0100
DTSTART:19170917T030000
RRULE:FREQ=YEARLY;UNTIL=19180916T010000Z;BYMONTH=9;BYDAY=3MO
END:STANDARD
BEGIN:DAYLIGHT
TZNAME:CEST
TZOFFSETFROM:+0100
TZOFFSETTO:+0200
DTSTART:19440403T020000
RRULE:FREQ=YEARLY;UNTIL=19450402T010000Z;BYMONTH=4;BYDAY=1MO
END:DAYLIGHT
BEGIN:DAYLIGHT
TZNAME:CEMT
TZOFFSETFROM:+0200
TZOFFSETTO:+0300
DTSTART:19450524T020000
RDATE:19470511T030000
END:DAYLIGHT
BEGIN:DAYLIGHT
TZNAME:CEST
TZOFFSETFROM:+0300
TZOFFSETTO:+0200
DTSTART:19450924T030000
RDATE:19470629T030000
END:DAYLIGHT
BEGIN:STANDARD
TZNAME:CET
TZOFFSETFROM:+0100
TZOFFSETTO:+0100
DTSTART:19460101T000000
RDATE:19800101T000000
END:STANDARD
BEGIN:STANDARD
TZNAME:CET
TZOFFSETFROM:+0200
TZOFFSETTO:+0100
DTSTART:19471005T030000
RRULE:FREQ=YEARLY;UNTIL=19491002T010000Z;BYMONTH=10;BYDAY=1SU
END:STANDARD
BEGIN:STANDARD
TZNAME:CET
TZOFFSETFROM:+0200
TZOFFSETTO:+0100
DTSTART:19800928T030000
RRULE:FREQ=YEARLY;UNTIL=19950924T010000Z;BYMONTH=9;BYDAY=-1SU
END:STANDARD
BEGIN:DAYLIGHT
TZNAME:CEST
TZOFFSETFROM:+0100
TZOFFSETTO:+0200
DTSTART:19810329T020000
RRULE:FREQ=YEARLY;BYMONTH=3;BYDAY=-1SU
END:DAYLIGHT
BEGIN:STANDARD
TZNAME:CET
TZOFFSETFROM:+0200
TZOFFSETTO:+0100
DTSTART:19961027T030000
RRULE:FREQ=YEARLY;BYMONTH=10;BYDAY=-1SU
END:STANDARD
END:VTIMEZONE
BEGIN:VEVENT
DTSTAMP:20260424T163257Z
DTSTART;TZID=Europe/Berlin:20171013T203000
DTEND;TZID=Europe/Berlin:20171013T233000
SUMMARY:2. Divisione Riva S.Vitale II vs Locarno III (4)
UID:6010be51-532d-5356-e053-1fc7a80a74f7
STATUS:CONFIRMED
LAST-MODIFIED:20171014T131439Z
DESCRIPTION:2. Divisione\nBegegnungs-Nr: 4\nHeim: Riva S.Vitale II\nGast: Locarno III\n
LOCATION:
CATEGORIES:Saison 2017/18
END:VEVENT
BEGIN:VEVENT
DTSTAMP:20260424T163257Z
DTSTART;TZID=Europe/Berlin:20180323T203000
DTEND;TZID=Europe/Berlin:20180323T233000
SUMMARY:2. Divisione Riva S.Vitale II vs Tenero IV (29)
UID:6010be51-5333-5356-e053-1fc7a80a74f7
STATUS:CONFIRMED
LAST-MODIFIED:20180326T094216Z
DESCRIPTION:2. Divisione\nBegegnungs-Nr: 29\nHeim: Riva S.Vitale II\nGast: Tenero IV\n
LOCATION:
CATEGORIES:Saison 2017/18
END:VEVENT
BEGIN:VEVENT
DTSTAMP:20260424T163257Z
DTSTART;TZID=Europe/Berlin:20180112T203000
DTEND;TZID=Europe/Berlin:20180112T233000
SUMMARY:2. Divisione Riva S.Vitale II vs Lugano IV (17)
UID:6010be51-5366-5356-e053-1fc7a80a74f7
STATUS:CONFIRMED
LAST-MODIFIED:20180113T110839Z
DESCRIPTION:2. Divisione\nBegegnungs-Nr: 17\nHeim: Riva S.Vitale II\nGast: Lugano IV\n
LOCATION:
CATEGORIES:Saison 2017/18
END:VEVENT
BEGIN:VEVENT
DTSTAMP:20260424T163257Z
DTSTART;TZID=Europe/Berlin:20180227T203000
DTEND;TZID=Europe/Berlin:20180227T233000
SUMMARY:2. Divisione Riva S.Vitale II vs Locarno IV (27)
UID:6010be51-52fc-5356-e053-1fc7a80a74f7
STATUS:CONFIRMED
LAST-MODIFIED:20180228T071541Z
DESCRIPTION:2. Divisione\nBegegnungs-Nr: 27\nHeim: Riva S.Vitale II\nGast: Locarno IV\n
LOCATION:
CATEGORIES:Saison 2017/18
END:VEVENT
BEGIN:VEVENT
DTSTAMP:20260424T163257Z
DTSTART;TZID=Europe/Berlin:20171110T203000
DTEND;TZID=Europe/Berlin:20171110T233000
SUMMARY:2. Divisione Riva S.Vitale II vs Tenero V (9)
UID:6010be51-5c48-5356-e053-1fc7a80a74f7
STATUS:CONFIRMED
LAST-MODIFIED:20171113T080106Z
DESCRIPTION:2. Divisione\nBegegnungs-Nr: 9\nHeim: Riva S.Vitale II\nGast: Tenero V\n
LOCATION:
CATEGORIES:Saison 2017/18
END:VEVENT
BEGIN:VEVENT
DTSTAMP:20260424T163257Z
DTSTART;TZID=Europe/Berlin:20180223T194500
DTEND;TZID=Europe/Berlin:20180223T224500
SUMMARY:2. Divisione Tenero V vs Riva S.Vitale II (24)
UID:6010be51-52f9-5356-e053-1fc7a80a74f7
STATUS:CONFIRMED
LAST-MODIFIED:20180224T075340Z
DESCRIPTION:2. Divisione\nBegegnungs-Nr: 24\nHeim: Tenero V\nGast: Riva S.Vitale II\n
LOCATION:
CATEGORIES:Saison 2017/18
END:VEVENT
BEGIN:VEVENT
DTSTAMP:20260424T163257Z
DTSTART;TZID=Europe/Berlin:20170929T201500
DTEND;TZID=Europe/Berlin:20170929T231500
SUMMARY:2. Divisione Lugano IV vs Riva S.Vitale II (2)
UID:6010be51-532b-5356-e053-1fc7a80a74f7
STATUS:CONFIRMED
LAST-MODIFIED:20170930T111103Z
DESCRIPTION:2. Divisione\nBegegnungs-Nr: 2\nHeim: Lugano IV\nGast: Riva S.Vitale II\n
LOCATION:
CATEGORIES:Saison 2017/18
END:VEVENT
BEGIN:VEVENT
DTSTAMP:20260424T163257Z
DTSTART;TZID=Europe/Berlin:20180126T201500
DTEND;TZID=Europe/Berlin:20180126T231500
SUMMARY:2. Divisione Locarno III vs Riva S.Vitale II (19)
UID:6010be51-5368-5356-e053-1fc7a80a74f7
STATUS:CONFIRMED
LAST-MODIFIED:20180129T214929Z
DESCRIPTION:2. Divisione\nBegegnungs-Nr: 19\nHeim: Locarno III\nGast: Riva S.Vitale II\n
LOCATION:
CATEGORIES:Saison 2017/18
END:VEVENT
BEGIN:VEVENT
DTSTAMP:20260424T163257Z
DTSTART;TZID=Europe/Berlin:20171124T201500
DTEND;TZID=Europe/Berlin:20171124T231500
SUMMARY:2. Divisione Locarno IV vs Riva S.Vitale II (12)
UID:6010be51-5859-5356-e053-1fc7a80a74f7
STATUS:CONFIRMED
LAST-MODIFIED:20171125T104339Z
DESCRIPTION:2. Divisione\nBegegnungs-Nr: 12\nHeim: Locarno IV\nGast: Riva S.Vitale II\n
LOCATION:
CATEGORIES:Saison 2017/18
END:VEVENT
BEGIN:VEVENT
DTSTAMP:20260424T163257Z
DTSTART;TZID=Europe/Berlin:20171219T194500
DTEND;TZID=Europe/Berlin:20171219T224500
SUMMARY:2. Divisione Tenero IV vs Riva S.Vitale II (14)
UID:6010be51-5336-5356-e053-1fc7a80a74f7
STATUS:CONFIRMED
LAST-MODIFIED:20171218T095656Z
DESCRIPTION:2. Divisione\nBegegnungs-Nr: 14\nHeim: Tenero IV\nGast: Riva S.Vitale II\n
LOCATION:
CATEGORIES:Saison 2017/18
END:VEVENT
END:VCALENDAR
