BEGIN:VCALENDAR
PRODID:-//nuDatenautomaten//framework iCal4j //DE
VERSION:2.0
CALSCALE:GREGORIAN
BEGIN:VTIMEZONE
TZID:Europe/Berlin
LAST-MODIFIED:20260306T231828Z
TZURL:https://www.tzurl.org/zoneinfo/Europe/Berlin
X-LIC-LOCATION:Europe/Berlin
X-PROLEPTIC-TZNAME:LMT
BEGIN:STANDARD
TZNAME:CET
TZOFFSETFROM:+005328
TZOFFSETTO:+0100
DTSTART:18930401T000000
END:STANDARD
BEGIN:DAYLIGHT
TZNAME:CEST
TZOFFSETFROM:+0100
TZOFFSETTO:+0200
DTSTART:19160430T230000
RDATE:19400401T020000
RDATE:19430329T020000
RDATE:19460414T020000
RDATE:19470406T030000
RDATE:19480418T020000
RDATE:19490410T020000
RDATE:19800406T020000
END:DAYLIGHT
BEGIN:STANDARD
TZNAME:CET
TZOFFSETFROM:+0200
TZOFFSETTO:+0100
DTSTART:19161001T010000
RDATE:19421102T030000
RDATE:19431004T030000
RDATE:19441002T030000
RDATE:19451118T030000
RDATE:19461007T030000
END:STANDARD
BEGIN:DAYLIGHT
TZNAME:CEST
TZOFFSETFROM:+0100
TZOFFSETTO:+0200
DTSTART:19170416T020000
RRULE:FREQ=YEARLY;UNTIL=19180415T010000Z;BYMONTH=4;BYDAY=3MO
END:DAYLIGHT
BEGIN:STANDARD
TZNAME:CET
TZOFFSETFROM:+0200
TZOFFSETTO:+0100
DTSTART:19170917T030000
RRULE:FREQ=YEARLY;UNTIL=19180916T010000Z;BYMONTH=9;BYDAY=3MO
END:STANDARD
BEGIN:DAYLIGHT
TZNAME:CEST
TZOFFSETFROM:+0100
TZOFFSETTO:+0200
DTSTART:19440403T020000
RRULE:FREQ=YEARLY;UNTIL=19450402T010000Z;BYMONTH=4;BYDAY=1MO
END:DAYLIGHT
BEGIN:DAYLIGHT
TZNAME:CEMT
TZOFFSETFROM:+0200
TZOFFSETTO:+0300
DTSTART:19450524T020000
RDATE:19470511T030000
END:DAYLIGHT
BEGIN:DAYLIGHT
TZNAME:CEST
TZOFFSETFROM:+0300
TZOFFSETTO:+0200
DTSTART:19450924T030000
RDATE:19470629T030000
END:DAYLIGHT
BEGIN:STANDARD
TZNAME:CET
TZOFFSETFROM:+0100
TZOFFSETTO:+0100
DTSTART:19460101T000000
RDATE:19800101T000000
END:STANDARD
BEGIN:STANDARD
TZNAME:CET
TZOFFSETFROM:+0200
TZOFFSETTO:+0100
DTSTART:19471005T030000
RRULE:FREQ=YEARLY;UNTIL=19491002T010000Z;BYMONTH=10;BYDAY=1SU
END:STANDARD
BEGIN:STANDARD
TZNAME:CET
TZOFFSETFROM:+0200
TZOFFSETTO:+0100
DTSTART:19800928T030000
RRULE:FREQ=YEARLY;UNTIL=19950924T010000Z;BYMONTH=9;BYDAY=-1SU
END:STANDARD
BEGIN:DAYLIGHT
TZNAME:CEST
TZOFFSETFROM:+0100
TZOFFSETTO:+0200
DTSTART:19810329T020000
RRULE:FREQ=YEARLY;BYMONTH=3;BYDAY=-1SU
END:DAYLIGHT
BEGIN:STANDARD
TZNAME:CET
TZOFFSETFROM:+0200
TZOFFSETTO:+0100
DTSTART:19961027T030000
RRULE:FREQ=YEARLY;BYMONTH=10;BYDAY=-1SU
END:STANDARD
END:VTIMEZONE
BEGIN:VEVENT
DTSTAMP:20260424T181612Z
DTSTART;TZID=Europe/Berlin:20170825T200000
DTEND;TZID=Europe/Berlin:20170825T230000
SUMMARY:L2P1G2 La Chaux-de-Fonds V vs Porrentruy (0)
UID:6010be51-4bc0-5356-e053-1fc7a80a74f7
STATUS:CONFIRMED
LAST-MODIFIED:20170827T090749Z
DESCRIPTION:2ème ligue phase 1 groupe 2\nBegegnungs-Nr: 0\nHeim: La Chaux-de-Fonds V\nGast: Porrentruy\n\nAdresse: Rue du Docteur-Kern 14\, 2300 La Chaux-de-Fonds\n
LOCATION:Rue du Docteur-Kern 14\, 2300 La Chaux-de-Fonds
CATEGORIES:Saison 2017/18
END:VEVENT
BEGIN:VEVENT
DTSTAMP:20260424T181612Z
DTSTART;TZID=Europe/Berlin:20170929T200000
DTEND;TZID=Europe/Berlin:20170929T230000
SUMMARY:L2P1G2 La Chaux-de-Fonds V vs Omega (0)
UID:6010be51-4bc5-5356-e053-1fc7a80a74f7
STATUS:CONFIRMED
LAST-MODIFIED:20170930T103038Z
DESCRIPTION:2ème ligue phase 1 groupe 2\nBegegnungs-Nr: 0\nHeim: La Chaux-de-Fonds V\nGast: Omega\n\nAdresse: Rue du Docteur-Kern 14\, 2300 La Chaux-de-Fonds\n
LOCATION:Rue du Docteur-Kern 14\, 2300 La Chaux-de-Fonds
CATEGORIES:Saison 2017/18
END:VEVENT
BEGIN:VEVENT
DTSTAMP:20260424T181612Z
DTSTART;TZID=Europe/Berlin:20171201T200000
DTEND;TZID=Europe/Berlin:20171201T230000
SUMMARY:L2P1G2 La Chaux-de-Fonds V vs Tramelan (0)
UID:6010be51-5ab1-5356-e053-1fc7a80a74f7
STATUS:CONFIRMED
LAST-MODIFIED:20171202T101040Z
DESCRIPTION:2ème ligue phase 1 groupe 2\nBegegnungs-Nr: 0\nHeim: La Chaux-de-Fonds V\nGast: Tramelan\n\nAdresse: Rue du Docteur-Kern 14\, 2300 La Chaux-de-Fonds\n
LOCATION:Rue du Docteur-Kern 14\, 2300 La Chaux-de-Fonds
CATEGORIES:Saison 2017/18
END:VEVENT
BEGIN:VEVENT
DTSTAMP:20260424T181612Z
DTSTART;TZID=Europe/Berlin:20180126T200000
DTEND;TZID=Europe/Berlin:20180126T230000
SUMMARY:L3P2G2 La Chaux-de-Fonds V vs Hauterive (0)
UID:0a58df3b-5457-4acd-8005-29059fb1fa1d
STATUS:CONFIRMED
LAST-MODIFIED:20180129T104256Z
DESCRIPTION:3ème ligue phase 2 groupe 2\nBegegnungs-Nr: 0\nHeim: La Chaux-de-Fonds V\nGast: Hauterive\n\nAdresse: Rue du Docteur-Kern 14\, 2300 La Chaux-de-Fonds\n
LOCATION:Rue du Docteur-Kern 14\, 2300 La Chaux-de-Fonds
CATEGORIES:Saison 2017/18
END:VEVENT
BEGIN:VEVENT
DTSTAMP:20260424T181612Z
DTSTART;TZID=Europe/Berlin:20180216T200000
DTEND;TZID=Europe/Berlin:20180216T230000
SUMMARY:L3P2G2 La Chaux-de-Fonds V vs Côte Peseux II (0)
UID:bf797777-8093-495c-aedd-0d383e377366
STATUS:CONFIRMED
LAST-MODIFIED:20180218T144519Z
DESCRIPTION:3ème ligue phase 2 groupe 2\nBegegnungs-Nr: 0\nHeim: La Chaux-de-Fonds V\nGast: Côte Peseux II\n\nAdresse: Rue du Docteur-Kern 14\, 2300 La Chaux-de-Fonds\n
LOCATION:Rue du Docteur-Kern 14\, 2300 La Chaux-de-Fonds
CATEGORIES:Saison 2017/18
END:VEVENT
BEGIN:VEVENT
DTSTAMP:20260424T181612Z
DTSTART;TZID=Europe/Berlin:20180323T200000
DTEND;TZID=Europe/Berlin:20180323T230000
SUMMARY:L3P2G2 La Chaux-de-Fonds V vs Cernier III (0)
UID:b9da9cf1-5426-4eef-9cae-ca012851a2e5
STATUS:CONFIRMED
LAST-MODIFIED:20180324T090353Z
DESCRIPTION:3ème ligue phase 2 groupe 2\nBegegnungs-Nr: 0\nHeim: La Chaux-de-Fonds V\nGast: Cernier III\n\nAdresse: Rue du Docteur-Kern 14\, 2300 La Chaux-de-Fonds\n
LOCATION:Rue du Docteur-Kern 14\, 2300 La Chaux-de-Fonds
CATEGORIES:Saison 2017/18
END:VEVENT
BEGIN:VEVENT
DTSTAMP:20260424T181612Z
DTSTART;TZID=Europe/Berlin:20180413T200000
DTEND;TZID=Europe/Berlin:20180413T230000
SUMMARY:L3P2G2 La Chaux-de-Fonds V vs Delémont IV (0)
UID:b60b6682-fda6-4f22-a4b2-b7679088be1b
STATUS:CONFIRMED
LAST-MODIFIED:20180415T085928Z
DESCRIPTION:3ème ligue phase 2 groupe 2\nBegegnungs-Nr: 0\nHeim: La Chaux-de-Fonds V\nGast: Delémont IV\n\nAdresse: Rue du Docteur-Kern 14\, 2300 La Chaux-de-Fonds\n
LOCATION:Rue du Docteur-Kern 14\, 2300 La Chaux-de-Fonds
CATEGORIES:Saison 2017/18
END:VEVENT
BEGIN:VEVENT
DTSTAMP:20260424T181612Z
DTSTART;TZID=Europe/Berlin:20170904T193000
DTEND;TZID=Europe/Berlin:20170904T223000
SUMMARY:L2P1G2 Hauterive vs La Chaux-de-Fonds V (0)
UID:6010be51-5575-5356-e053-1fc7a80a74f7
STATUS:CONFIRMED
LAST-MODIFIED:20170905T205215Z
DESCRIPTION:2ème ligue phase 1 groupe 2\nBegegnungs-Nr: 0\nHeim: Hauterive\nGast: La Chaux-de-Fonds V\n\nAdresse: Rue des Longschamps 10\, 2068 Hauterive NE\n
LOCATION:Rue des Longschamps 10\, 2068 Hauterive NE
CATEGORIES:Saison 2017/18
END:VEVENT
BEGIN:VEVENT
DTSTAMP:20260424T181612Z
DTSTART;TZID=Europe/Berlin:20171020T201500
DTEND;TZID=Europe/Berlin:20171020T231500
SUMMARY:L2P1G2 Côte Peseux II vs La Chaux-de-Fonds V (0)
UID:6010be51-4bfe-5356-e053-1fc7a80a74f7
STATUS:CONFIRMED
LAST-MODIFIED:20171023T160720Z
DESCRIPTION:2ème ligue phase 1 groupe 2\nBegegnungs-Nr: 0\nHeim: Côte Peseux II\nGast: La Chaux-de-Fonds V\n\nAdresse: Allée du 700e\, 2525 Le Landeron\n
LOCATION:Allée du 700e\, 2525 Le Landeron
CATEGORIES:Saison 2017/18
END:VEVENT
BEGIN:VEVENT
DTSTAMP:20260424T181612Z
DTSTART;TZID=Europe/Berlin:20171117T200000
DTEND;TZID=Europe/Berlin:20171117T230000
SUMMARY:L2P1G2 Le Locle vs La Chaux-de-Fonds V (0)
UID:6010be51-4bff-5356-e053-1fc7a80a74f7
STATUS:CONFIRMED
LAST-MODIFIED:20171118T110714Z
DESCRIPTION:2ème ligue phase 1 groupe 2\nBegegnungs-Nr: 0\nHeim: Le Locle\nGast: La Chaux-de-Fonds V\n\nAdresse: Rue Girardet 9\, 2400 Le Locle\n
LOCATION:Rue Girardet 9\, 2400 Le Locle
CATEGORIES:Saison 2017/18
END:VEVENT
BEGIN:VEVENT
DTSTAMP:20260424T181612Z
DTSTART;TZID=Europe/Berlin:20171212T193000
DTEND;TZID=Europe/Berlin:20171212T223000
SUMMARY:L2P1G2 Delémont IV vs La Chaux-de-Fonds V (0)
UID:6010be51-4c06-5356-e053-1fc7a80a74f7
STATUS:CONFIRMED
LAST-MODIFIED:20171214T105853Z
DESCRIPTION:2ème ligue phase 1 groupe 2\nBegegnungs-Nr: 0\nHeim: Delémont IV\nGast: La Chaux-de-Fonds V\n\nAdresse: Rue de la Blancherie 4\, 2800 Delémont\n
LOCATION:Rue de la Blancherie 4\, 2800 Delémont
CATEGORIES:Saison 2017/18
END:VEVENT
BEGIN:VEVENT
DTSTAMP:20260424T181612Z
DTSTART;TZID=Europe/Berlin:20180108T201500
DTEND;TZID=Europe/Berlin:20180108T231500
SUMMARY:L3P2G2 Porrentruy vs La Chaux-de-Fonds V (0)
UID:862d8556-8b66-4fce-ab12-fd6e2d7813c4
STATUS:CONFIRMED
LAST-MODIFIED:20180112T115511Z
DESCRIPTION:3ème ligue phase 2 groupe 2\nBegegnungs-Nr: 0\nHeim: Porrentruy\nGast: La Chaux-de-Fonds V\n\nAdresse: Rue du Banné 14\, 2900 Porrentruy\n
LOCATION:Rue du Banné 14\, 2900 Porrentruy
CATEGORIES:Saison 2017/18
END:VEVENT
BEGIN:VEVENT
DTSTAMP:20260424T181612Z
DTSTART;TZID=Europe/Berlin:20180309T201500
DTEND;TZID=Europe/Berlin:20180309T231500
SUMMARY:L3P2G2 Nugerol-Le Landeron II vs La Chaux-de-Fonds V (0)
UID:139646bc-9d0e-4286-b146-d0ccd7b9dd7e
STATUS:CONFIRMED
LAST-MODIFIED:20180310T190220Z
DESCRIPTION:3ème ligue phase 2 groupe 2\nBegegnungs-Nr: 0\nHeim: Nugerol-Le Landeron II\nGast: La Chaux-de-Fonds V\n\nAdresse: Allée du 700e\, 2525 Le Landeron\n
LOCATION:Allée du 700e\, 2525 Le Landeron
CATEGORIES:Saison 2017/18
END:VEVENT
BEGIN:VEVENT
DTSTAMP:20260424T181612Z
DTSTART;TZID=Europe/Berlin:20180425T200000
DTEND;TZID=Europe/Berlin:20180425T230000
SUMMARY:L3P2G2 Moutier II vs La Chaux-de-Fonds V (0)
UID:fb73c325-cbdd-4aa9-b2ce-80c377044d67
STATUS:CONFIRMED
LAST-MODIFIED:20180427T085219Z
DESCRIPTION:3ème ligue phase 2 groupe 2\nBegegnungs-Nr: 0\nHeim: Moutier II\nGast: La Chaux-de-Fonds V\n\nAdresse: Place Beseran\, 2740 Moutier\n
LOCATION:Place Beseran\, 2740 Moutier
CATEGORIES:Saison 2017/18
END:VEVENT
END:VCALENDAR
