BEGIN:VCALENDAR
PRODID:-//nuDatenautomaten//framework iCal4j //DE
VERSION:2.0
CALSCALE:GREGORIAN
BEGIN:VTIMEZONE
TZID:Europe/Berlin
LAST-MODIFIED:20260306T231828Z
TZURL:https://www.tzurl.org/zoneinfo/Europe/Berlin
X-LIC-LOCATION:Europe/Berlin
X-PROLEPTIC-TZNAME:LMT
BEGIN:STANDARD
TZNAME:CET
TZOFFSETFROM:+005328
TZOFFSETTO:+0100
DTSTART:18930401T000000
END:STANDARD
BEGIN:DAYLIGHT
TZNAME:CEST
TZOFFSETFROM:+0100
TZOFFSETTO:+0200
DTSTART:19160430T230000
RDATE:19400401T020000
RDATE:19430329T020000
RDATE:19460414T020000
RDATE:19470406T030000
RDATE:19480418T020000
RDATE:19490410T020000
RDATE:19800406T020000
END:DAYLIGHT
BEGIN:STANDARD
TZNAME:CET
TZOFFSETFROM:+0200
TZOFFSETTO:+0100
DTSTART:19161001T010000
RDATE:19421102T030000
RDATE:19431004T030000
RDATE:19441002T030000
RDATE:19451118T030000
RDATE:19461007T030000
END:STANDARD
BEGIN:DAYLIGHT
TZNAME:CEST
TZOFFSETFROM:+0100
TZOFFSETTO:+0200
DTSTART:19170416T020000
RRULE:FREQ=YEARLY;UNTIL=19180415T010000Z;BYMONTH=4;BYDAY=3MO
END:DAYLIGHT
BEGIN:STANDARD
TZNAME:CET
TZOFFSETFROM:+0200
TZOFFSETTO:+0100
DTSTART:19170917T030000
RRULE:FREQ=YEARLY;UNTIL=19180916T010000Z;BYMONTH=9;BYDAY=3MO
END:STANDARD
BEGIN:DAYLIGHT
TZNAME:CEST
TZOFFSETFROM:+0100
TZOFFSETTO:+0200
DTSTART:19440403T020000
RRULE:FREQ=YEARLY;UNTIL=19450402T010000Z;BYMONTH=4;BYDAY=1MO
END:DAYLIGHT
BEGIN:DAYLIGHT
TZNAME:CEMT
TZOFFSETFROM:+0200
TZOFFSETTO:+0300
DTSTART:19450524T020000
RDATE:19470511T030000
END:DAYLIGHT
BEGIN:DAYLIGHT
TZNAME:CEST
TZOFFSETFROM:+0300
TZOFFSETTO:+0200
DTSTART:19450924T030000
RDATE:19470629T030000
END:DAYLIGHT
BEGIN:STANDARD
TZNAME:CET
TZOFFSETFROM:+0100
TZOFFSETTO:+0100
DTSTART:19460101T000000
RDATE:19800101T000000
END:STANDARD
BEGIN:STANDARD
TZNAME:CET
TZOFFSETFROM:+0200
TZOFFSETTO:+0100
DTSTART:19471005T030000
RRULE:FREQ=YEARLY;UNTIL=19491002T010000Z;BYMONTH=10;BYDAY=1SU
END:STANDARD
BEGIN:STANDARD
TZNAME:CET
TZOFFSETFROM:+0200
TZOFFSETTO:+0100
DTSTART:19800928T030000
RRULE:FREQ=YEARLY;UNTIL=19950924T010000Z;BYMONTH=9;BYDAY=-1SU
END:STANDARD
BEGIN:DAYLIGHT
TZNAME:CEST
TZOFFSETFROM:+0100
TZOFFSETTO:+0200
DTSTART:19810329T020000
RRULE:FREQ=YEARLY;BYMONTH=3;BYDAY=-1SU
END:DAYLIGHT
BEGIN:STANDARD
TZNAME:CET
TZOFFSETFROM:+0200
TZOFFSETTO:+0100
DTSTART:19961027T030000
RRULE:FREQ=YEARLY;BYMONTH=10;BYDAY=-1SU
END:STANDARD
END:VTIMEZONE
BEGIN:VEVENT
DTSTAMP:20260424T181425Z
DTSTART;TZID=Europe/Berlin:20170905T201500
DTEND;TZID=Europe/Berlin:20170905T231500
SUMMARY:HE 4.Liga Gr.8 Dübendorf-Volketswil III vs Gossau Zuerich (0)
UID:6010be51-4ab1-5356-e053-1fc7a80a74f7
STATUS:CONFIRMED
LAST-MODIFIED:20170906T075356Z
DESCRIPTION:4. Liga Herren Gruppe 8\nBegegnungs-Nr: 0\nHeim: Dübendorf-Volketswil III\nGast: Gossau Zuerich\n\nAdresse: Dübendorfstrasse 46\, 8602 Wangen ZH\n
LOCATION:Dübendorfstrasse 46\, 8602 Wangen ZH
CATEGORIES:Saison 2017/18
END:VEVENT
BEGIN:VEVENT
DTSTAMP:20260424T181425Z
DTSTART;TZID=Europe/Berlin:20180123T201500
DTEND;TZID=Europe/Berlin:20180123T231500
SUMMARY:HE 4.Liga Gr.8 Dübendorf-Volketswil III vs Wolfhausen (0)
UID:6010be51-5156-5356-e053-1fc7a80a74f7
STATUS:CONFIRMED
LAST-MODIFIED:20180124T093915Z
DESCRIPTION:4. Liga Herren Gruppe 8\nBegegnungs-Nr: 0\nHeim: Dübendorf-Volketswil III\nGast: Wolfhausen\n\nAdresse: Dübendorfstrasse 46\, 8602 Wangen ZH\n
LOCATION:Dübendorfstrasse 46\, 8602 Wangen ZH
CATEGORIES:Saison 2017/18
END:VEVENT
BEGIN:VEVENT
DTSTAMP:20260424T181425Z
DTSTART;TZID=Europe/Berlin:20180306T201500
DTEND;TZID=Europe/Berlin:20180306T231500
SUMMARY:HE 4.Liga Gr.8 Dübendorf-Volketswil III vs Wädenswil VIII (0)
UID:6010be51-514e-5356-e053-1fc7a80a74f7
STATUS:CONFIRMED
LAST-MODIFIED:20180309T145309Z
DESCRIPTION:4. Liga Herren Gruppe 8\nBegegnungs-Nr: 0\nHeim: Dübendorf-Volketswil III\nGast: Wädenswil VIII\n\nAdresse: Dübendorfstrasse 46\, 8602 Wangen ZH\n
LOCATION:Dübendorfstrasse 46\, 8602 Wangen ZH
CATEGORIES:Saison 2017/18
END:VEVENT
BEGIN:VEVENT
DTSTAMP:20260424T181425Z
DTSTART;TZID=Europe/Berlin:20180410T201500
DTEND;TZID=Europe/Berlin:20180410T231500
SUMMARY:HE 4.Liga Gr.8 Dübendorf-Volketswil III vs Meilen-Männedorf III (0)
UID:6010be51-4d84-5356-e053-1fc7a80a74f7
STATUS:CONFIRMED
LAST-MODIFIED:20180419T082549Z
DESCRIPTION:4. Liga Herren Gruppe 8\nBegegnungs-Nr: 0\nHeim: Dübendorf-Volketswil III\nGast: Meilen-Männedorf III\n\nAdresse: Dübendorfstrasse 46\, 8602 Wangen ZH\n
LOCATION:Dübendorfstrasse 46\, 8602 Wangen ZH
CATEGORIES:Saison 2017/18
END:VEVENT
BEGIN:VEVENT
DTSTAMP:20260424T181425Z
DTSTART;TZID=Europe/Berlin:20171107T201500
DTEND;TZID=Europe/Berlin:20171107T231500
SUMMARY:HE 4.Liga Gr.8 Dübendorf-Volketswil III vs Wetzikon VII (0)
UID:6010be51-4aa5-5356-e053-1fc7a80a74f7
STATUS:CONFIRMED
LAST-MODIFIED:20171113T133552Z
DESCRIPTION:4. Liga Herren Gruppe 8\nBegegnungs-Nr: 0\nHeim: Dübendorf-Volketswil III\nGast: Wetzikon VII\n\nAdresse: Dübendorfstrasse 46\, 8602 Wangen ZH\n
LOCATION:Dübendorfstrasse 46\, 8602 Wangen ZH
CATEGORIES:Saison 2017/18
END:VEVENT
BEGIN:VEVENT
DTSTAMP:20260424T181425Z
DTSTART;TZID=Europe/Berlin:20171003T201500
DTEND;TZID=Europe/Berlin:20171003T231500
SUMMARY:HE 4.Liga Gr.8 Dübendorf-Volketswil III vs Greifensee (0)
UID:6010be51-4aaa-5356-e053-1fc7a80a74f7
STATUS:CONFIRMED
LAST-MODIFIED:20171004T073129Z
DESCRIPTION:4. Liga Herren Gruppe 8\nBegegnungs-Nr: 0\nHeim: Dübendorf-Volketswil III\nGast: Greifensee\n\nAdresse: Dübendorfstrasse 46\, 8602 Wangen ZH\n
LOCATION:Dübendorfstrasse 46\, 8602 Wangen ZH
CATEGORIES:Saison 2017/18
END:VEVENT
BEGIN:VEVENT
DTSTAMP:20260424T181425Z
DTSTART;TZID=Europe/Berlin:20180320T201500
DTEND;TZID=Europe/Berlin:20180320T231500
SUMMARY:HE 4.Liga Gr.8 Dübendorf-Volketswil III vs Rapperswil-Jona V (0)
UID:6010be51-4d87-5356-e053-1fc7a80a74f7
STATUS:CONFIRMED
LAST-MODIFIED:20180321T161818Z
DESCRIPTION:4. Liga Herren Gruppe 8\nBegegnungs-Nr: 0\nHeim: Dübendorf-Volketswil III\nGast: Rapperswil-Jona V\n\nAdresse: Dübendorfstrasse 46\, 8602 Wangen ZH\n
LOCATION:Dübendorfstrasse 46\, 8602 Wangen ZH
CATEGORIES:Saison 2017/18
END:VEVENT
BEGIN:VEVENT
DTSTAMP:20260424T181425Z
DTSTART;TZID=Europe/Berlin:20171122T201500
DTEND;TZID=Europe/Berlin:20171122T231500
SUMMARY:HE 4.Liga Gr.8 Wädenswil VIII vs Dübendorf-Volketswil III (0)
UID:6010be51-4aa9-5356-e053-1fc7a80a74f7
STATUS:CONFIRMED
LAST-MODIFIED:20171127T135827Z
DESCRIPTION:4. Liga Herren Gruppe 8\nBegegnungs-Nr: 0\nHeim: Wädenswil VIII\nGast: Dübendorf-Volketswil III\n\nAdresse: Fuhrstrasse 16b\, 8820 Wädenswil\n
LOCATION:Fuhrstrasse 16b\, 8820 Wädenswil
CATEGORIES:Saison 2017/18
END:VEVENT
BEGIN:VEVENT
DTSTAMP:20260424T181425Z
DTSTART;TZID=Europe/Berlin:20170911T200000
DTEND;TZID=Europe/Berlin:20170911T230000
SUMMARY:HE 4.Liga Gr.8 Wolfhausen vs Dübendorf-Volketswil III (0)
UID:6010be51-4aad-5356-e053-1fc7a80a74f7
STATUS:CONFIRMED
LAST-MODIFIED:20170912T152445Z
DESCRIPTION:4. Liga Herren Gruppe 8\nBegegnungs-Nr: 0\nHeim: Wolfhausen\nGast: Dübendorf-Volketswil III\n\nAdresse: Schulstrasse 9\, 8633 Wolfhausen\n
LOCATION:Schulstrasse 9\, 8633 Wolfhausen
CATEGORIES:Saison 2017/18
END:VEVENT
BEGIN:VEVENT
DTSTAMP:20260424T181425Z
DTSTART;TZID=Europe/Berlin:20180316T194500
DTEND;TZID=Europe/Berlin:20180316T224500
SUMMARY:HE 4.Liga Gr.8 Wetzikon VII vs Dübendorf-Volketswil III (0)
UID:6010be51-4d8b-5356-e053-1fc7a80a74f7
STATUS:CONFIRMED
LAST-MODIFIED:20180319T171915Z
DESCRIPTION:4. Liga Herren Gruppe 8\nBegegnungs-Nr: 0\nHeim: Wetzikon VII\nGast: Dübendorf-Volketswil III\n\nAdresse: Usterstrasse 37\, 8620 Wetzikon\n
LOCATION:Usterstrasse 37\, 8620 Wetzikon
CATEGORIES:Saison 2017/18
END:VEVENT
BEGIN:VEVENT
DTSTAMP:20260424T181425Z
DTSTART;TZID=Europe/Berlin:20171207T194500
DTEND;TZID=Europe/Berlin:20171207T224500
SUMMARY:HE 4.Liga Gr.8 Meilen-Männedorf III vs Dübendorf-Volketswil III (0)
UID:6010be51-4e91-5356-e053-1fc7a80a74f7
STATUS:CONFIRMED
LAST-MODIFIED:20171213T154430Z
DESCRIPTION:4. Liga Herren Gruppe 8\nBegegnungs-Nr: 0\nHeim: Meilen-Männedorf III\nGast: Dübendorf-Volketswil III\n\nAdresse: Schulhausstr. 27\, 8706 Meilen\n
LOCATION:Schulhausstr. 27\, 8706 Meilen
CATEGORIES:Saison 2017/18
END:VEVENT
BEGIN:VEVENT
DTSTAMP:20260424T181425Z
DTSTART;TZID=Europe/Berlin:20171117T200000
DTEND;TZID=Europe/Berlin:20171117T230000
SUMMARY:HE 4.Liga Gr.8 Rapperswil-Jona V vs Dübendorf-Volketswil III (0)
UID:6010be51-4e93-5356-e053-1fc7a80a74f7
STATUS:CONFIRMED
LAST-MODIFIED:20171121T094851Z
DESCRIPTION:4. Liga Herren Gruppe 8\nBegegnungs-Nr: 0\nHeim: Rapperswil-Jona V\nGast: Dübendorf-Volketswil III\n\nAdresse: Kreuzstrasse 43\, 8640 Rapperswil\n
LOCATION:Kreuzstrasse 43\, 8640 Rapperswil
CATEGORIES:Saison 2017/18
END:VEVENT
BEGIN:VEVENT
DTSTAMP:20260424T181425Z
DTSTART;TZID=Europe/Berlin:20180206T200000
DTEND;TZID=Europe/Berlin:20180206T230000
SUMMARY:HE 4.Liga Gr.8 Greifensee vs Dübendorf-Volketswil III (0)
UID:6010be51-5152-5356-e053-1fc7a80a74f7
STATUS:CONFIRMED
LAST-MODIFIED:20180213T091258Z
DESCRIPTION:4. Liga Herren Gruppe 8\nBegegnungs-Nr: 0\nHeim: Greifensee\nGast: Dübendorf-Volketswil III\n\nAdresse: Stationsstrasse\, 8606 Nänikon\n
LOCATION:Stationsstrasse\, 8606 Nänikon
CATEGORIES:Saison 2017/18
END:VEVENT
BEGIN:VEVENT
DTSTAMP:20260424T181425Z
DTSTART;TZID=Europe/Berlin:20180112T200000
DTEND;TZID=Europe/Berlin:20180112T230000
SUMMARY:HE 4.Liga Gr.8 Gossau Zuerich vs Dübendorf-Volketswil III (0)
UID:6010be51-515a-5356-e053-1fc7a80a74f7
STATUS:CONFIRMED
LAST-MODIFIED:20180115T103755Z
DESCRIPTION:4. Liga Herren Gruppe 8\nBegegnungs-Nr: 0\nHeim: Gossau Zuerich\nGast: Dübendorf-Volketswil III\n\nAdresse: Schulstrasse\, 8624 Grüt-Gossau\n
LOCATION:Schulstrasse\, 8624 Grüt-Gossau
CATEGORIES:Saison 2017/18
END:VEVENT
END:VCALENDAR
