BEGIN:VCALENDAR
PRODID:-//nuDatenautomaten//framework iCal4j //DE
VERSION:2.0
CALSCALE:GREGORIAN
BEGIN:VTIMEZONE
TZID:Europe/Berlin
LAST-MODIFIED:20260306T231828Z
TZURL:https://www.tzurl.org/zoneinfo/Europe/Berlin
X-LIC-LOCATION:Europe/Berlin
X-PROLEPTIC-TZNAME:LMT
BEGIN:STANDARD
TZNAME:CET
TZOFFSETFROM:+005328
TZOFFSETTO:+0100
DTSTART:18930401T000000
END:STANDARD
BEGIN:DAYLIGHT
TZNAME:CEST
TZOFFSETFROM:+0100
TZOFFSETTO:+0200
DTSTART:19160430T230000
RDATE:19400401T020000
RDATE:19430329T020000
RDATE:19460414T020000
RDATE:19470406T030000
RDATE:19480418T020000
RDATE:19490410T020000
RDATE:19800406T020000
END:DAYLIGHT
BEGIN:STANDARD
TZNAME:CET
TZOFFSETFROM:+0200
TZOFFSETTO:+0100
DTSTART:19161001T010000
RDATE:19421102T030000
RDATE:19431004T030000
RDATE:19441002T030000
RDATE:19451118T030000
RDATE:19461007T030000
END:STANDARD
BEGIN:DAYLIGHT
TZNAME:CEST
TZOFFSETFROM:+0100
TZOFFSETTO:+0200
DTSTART:19170416T020000
RRULE:FREQ=YEARLY;UNTIL=19180415T010000Z;BYMONTH=4;BYDAY=3MO
END:DAYLIGHT
BEGIN:STANDARD
TZNAME:CET
TZOFFSETFROM:+0200
TZOFFSETTO:+0100
DTSTART:19170917T030000
RRULE:FREQ=YEARLY;UNTIL=19180916T010000Z;BYMONTH=9;BYDAY=3MO
END:STANDARD
BEGIN:DAYLIGHT
TZNAME:CEST
TZOFFSETFROM:+0100
TZOFFSETTO:+0200
DTSTART:19440403T020000
RRULE:FREQ=YEARLY;UNTIL=19450402T010000Z;BYMONTH=4;BYDAY=1MO
END:DAYLIGHT
BEGIN:DAYLIGHT
TZNAME:CEMT
TZOFFSETFROM:+0200
TZOFFSETTO:+0300
DTSTART:19450524T020000
RDATE:19470511T030000
END:DAYLIGHT
BEGIN:DAYLIGHT
TZNAME:CEST
TZOFFSETFROM:+0300
TZOFFSETTO:+0200
DTSTART:19450924T030000
RDATE:19470629T030000
END:DAYLIGHT
BEGIN:STANDARD
TZNAME:CET
TZOFFSETFROM:+0100
TZOFFSETTO:+0100
DTSTART:19460101T000000
RDATE:19800101T000000
END:STANDARD
BEGIN:STANDARD
TZNAME:CET
TZOFFSETFROM:+0200
TZOFFSETTO:+0100
DTSTART:19471005T030000
RRULE:FREQ=YEARLY;UNTIL=19491002T010000Z;BYMONTH=10;BYDAY=1SU
END:STANDARD
BEGIN:STANDARD
TZNAME:CET
TZOFFSETFROM:+0200
TZOFFSETTO:+0100
DTSTART:19800928T030000
RRULE:FREQ=YEARLY;UNTIL=19950924T010000Z;BYMONTH=9;BYDAY=-1SU
END:STANDARD
BEGIN:DAYLIGHT
TZNAME:CEST
TZOFFSETFROM:+0100
TZOFFSETTO:+0200
DTSTART:19810329T020000
RRULE:FREQ=YEARLY;BYMONTH=3;BYDAY=-1SU
END:DAYLIGHT
BEGIN:STANDARD
TZNAME:CET
TZOFFSETFROM:+0200
TZOFFSETTO:+0100
DTSTART:19961027T030000
RRULE:FREQ=YEARLY;BYMONTH=10;BYDAY=-1SU
END:STANDARD
END:VTIMEZONE
BEGIN:VEVENT
DTSTAMP:20260424T181547Z
DTSTART;TZID=Europe/Berlin:20170822T000000
DTEND;TZID=Europe/Berlin:20170822T030000
SUMMARY:HE 2. Liga Gr. 1 Heimberg vs Thun III (11)
UID:6010be51-3c4a-5356-e053-1fc7a80a74f7
STATUS:CONFIRMED
LAST-MODIFIED:20170820T112125Z
DESCRIPTION:2. Liga Herren Gruppe 1\nBegegnungs-Nr: 11\nHeim: Heimberg\nGast: Thun III\n
LOCATION:
CATEGORIES:Saison 2017/18
END:VEVENT
BEGIN:VEVENT
DTSTAMP:20260424T181547Z
DTSTART;TZID=Europe/Berlin:20171202T153000
DTEND;TZID=Europe/Berlin:20171202T183000
SUMMARY:HE 2. Liga Gr. 1 Heimberg vs Belp II (41)
UID:6010be51-3c52-5356-e053-1fc7a80a74f7
STATUS:CONFIRMED
LAST-MODIFIED:20171204T173835Z
DESCRIPTION:2. Liga Herren Gruppe 1\nBegegnungs-Nr: 41\nHeim: Heimberg\nGast: Belp II\n\nAdresse: Niesenstrasse 38\, 3627 Heimberg\n
LOCATION:Niesenstrasse 38\, 3627 Heimberg
CATEGORIES:Saison 2017/18
END:VEVENT
BEGIN:VEVENT
DTSTAMP:20260424T181547Z
DTSTART;TZID=Europe/Berlin:20171109T194500
DTEND;TZID=Europe/Berlin:20171109T224500
SUMMARY:HE 2. Liga Gr. 1 Heimberg vs Münsingen (31)
UID:6010be51-3c83-5356-e053-1fc7a80a74f7
STATUS:CONFIRMED
LAST-MODIFIED:20171110T130654Z
DESCRIPTION:2. Liga Herren Gruppe 1\nBegegnungs-Nr: 31\nHeim: Heimberg\nGast: Münsingen\n\nAdresse: Niesenstrasse 38\, 3627 Heimberg\n
LOCATION:Niesenstrasse 38\, 3627 Heimberg
CATEGORIES:Saison 2017/18
END:VEVENT
BEGIN:VEVENT
DTSTAMP:20260424T181547Z
DTSTART;TZID=Europe/Berlin:20171026T194500
DTEND;TZID=Europe/Berlin:20171026T224500
SUMMARY:HE 2. Liga Gr. 1 Heimberg vs Köniz (21)
UID:6010be51-3c8c-5356-e053-1fc7a80a74f7
STATUS:CONFIRMED
LAST-MODIFIED:20171028T123346Z
DESCRIPTION:2. Liga Herren Gruppe 1\nBegegnungs-Nr: 21\nHeim: Heimberg\nGast: Köniz\n\nAdresse: Niesenstrasse 38\, 3627 Heimberg\n
LOCATION:Niesenstrasse 38\, 3627 Heimberg
CATEGORIES:Saison 2017/18
END:VEVENT
BEGIN:VEVENT
DTSTAMP:20260424T181547Z
DTSTART;TZID=Europe/Berlin:20180306T194500
DTEND;TZID=Europe/Berlin:20180306T224500
SUMMARY:HE 2. Liga Gr. 1 Heimberg vs Steffisburg (36)
UID:6010be51-3ccb-5356-e053-1fc7a80a74f7
STATUS:CONFIRMED
LAST-MODIFIED:20180308T180414Z
DESCRIPTION:2. Liga Herren Gruppe 1\nBegegnungs-Nr: 36\nHeim: Heimberg\nGast: Steffisburg\n\nAdresse: Niesenstrasse 38\, 3627 Heimberg\n
LOCATION:Niesenstrasse 38\, 3627 Heimberg
CATEGORIES:Saison 2017/18
END:VEVENT
BEGIN:VEVENT
DTSTAMP:20260424T181547Z
DTSTART;TZID=Europe/Berlin:20180120T153000
DTEND;TZID=Europe/Berlin:20180120T183000
SUMMARY:HE 2. Liga Gr. 1 Heimberg vs Ittigen (6)
UID:6010be51-3d40-5356-e053-1fc7a80a74f7
STATUS:CONFIRMED
LAST-MODIFIED:20180121T173846Z
DESCRIPTION:2. Liga Herren Gruppe 1\nBegegnungs-Nr: 6\nHeim: Heimberg\nGast: Ittigen\n\nAdresse: Niesenstrasse 38\, 3627 Heimberg\n
LOCATION:Niesenstrasse 38\, 3627 Heimberg
CATEGORIES:Saison 2017/18
END:VEVENT
BEGIN:VEVENT
DTSTAMP:20260424T181547Z
DTSTART;TZID=Europe/Berlin:20180308T194500
DTEND;TZID=Europe/Berlin:20180308T224500
SUMMARY:HE 2. Liga Gr. 1 Heimberg vs Burgdorf II (26)
UID:6010be51-48fa-5356-e053-1fc7a80a74f7
STATUS:CONFIRMED
LAST-MODIFIED:20180310T184648Z
DESCRIPTION:2. Liga Herren Gruppe 1\nBegegnungs-Nr: 26\nHeim: Heimberg\nGast: Burgdorf II\n\nAdresse: Niesenstrasse 38\, 3627 Heimberg\n
LOCATION:Niesenstrasse 38\, 3627 Heimberg
CATEGORIES:Saison 2017/18
END:VEVENT
BEGIN:VEVENT
DTSTAMP:20260424T181547Z
DTSTART;TZID=Europe/Berlin:20170824T194500
DTEND;TZID=Europe/Berlin:20170824T224500
SUMMARY:HE 2. Liga Gr. 1 Heimberg vs Solothurn III (1)
UID:6010be51-512c-5356-e053-1fc7a80a74f7
STATUS:CONFIRMED
LAST-MODIFIED:20170826T061526Z
DESCRIPTION:2. Liga Herren Gruppe 1\nBegegnungs-Nr: 1\nHeim: Heimberg\nGast: Solothurn III\n\nAdresse: Niesenstrasse 38\, 3627 Heimberg\n
LOCATION:Niesenstrasse 38\, 3627 Heimberg
CATEGORIES:Saison 2017/18
END:VEVENT
BEGIN:VEVENT
DTSTAMP:20260424T181547Z
DTSTART;TZID=Europe/Berlin:20170911T194500
DTEND;TZID=Europe/Berlin:20170911T224500
SUMMARY:HE 2. Liga Gr. 1 Ittigen vs Heimberg (6)
UID:6010be51-3c4d-5356-e053-1fc7a80a74f7
STATUS:CONFIRMED
LAST-MODIFIED:20170912T170929Z
DESCRIPTION:2. Liga Herren Gruppe 1\nBegegnungs-Nr: 6\nHeim: Ittigen\nGast: Heimberg\n\nAdresse: Fischrainweg 17\, 3048 Worblaufen\n
LOCATION:Fischrainweg 17\, 3048 Worblaufen
CATEGORIES:Saison 2017/18
END:VEVENT
BEGIN:VEVENT
DTSTAMP:20260424T181547Z
DTSTART;TZID=Europe/Berlin:20171124T200000
DTEND;TZID=Europe/Berlin:20171124T230000
SUMMARY:HE 2. Liga Gr. 1 Steffisburg vs Heimberg (36)
UID:6010be51-3c80-5356-e053-1fc7a80a74f7
STATUS:CONFIRMED
LAST-MODIFIED:20171125T062749Z
DESCRIPTION:2. Liga Herren Gruppe 1\nBegegnungs-Nr: 36\nHeim: Steffisburg\nGast: Heimberg\n\nAdresse: Sonnenfeldstrasse 10\, 3613 Steffisburg\n
LOCATION:Sonnenfeldstrasse 10\, 3613 Steffisburg
CATEGORIES:Saison 2017/18
END:VEVENT
BEGIN:VEVENT
DTSTAMP:20260424T181547Z
DTSTART;TZID=Europe/Berlin:20171104T133000
DTEND;TZID=Europe/Berlin:20171104T163000
SUMMARY:HE 2. Liga Gr. 1 Burgdorf II vs Heimberg (26)
UID:6010be51-3c88-5356-e053-1fc7a80a74f7
STATUS:CONFIRMED
LAST-MODIFIED:20171105T134833Z
DESCRIPTION:2. Liga Herren Gruppe 1\nBegegnungs-Nr: 26\nHeim: Burgdorf II\nGast: Heimberg\n\nAdresse: Pestalozzistrasse 69\, 3400 Burgdorf\n
LOCATION:Pestalozzistrasse 69\, 3400 Burgdorf
CATEGORIES:Saison 2017/18
END:VEVENT
BEGIN:VEVENT
DTSTAMP:20260424T181547Z
DTSTART;TZID=Europe/Berlin:20170928T194500
DTEND;TZID=Europe/Berlin:20170928T224500
SUMMARY:HE 2. Liga Gr. 1 Düdingen vs Heimberg (16)
UID:6010be51-3cc0-5356-e053-1fc7a80a74f7
STATUS:CONFIRMED
LAST-MODIFIED:20170929T153643Z
DESCRIPTION:2. Liga Herren Gruppe 1\nBegegnungs-Nr: 16\nHeim: Düdingen\nGast: Heimberg\n\nAdresse: Alfons-Aeby-Strasse\, 3186 Düdingen\n
LOCATION:Alfons-Aeby-Strasse\, 3186 Düdingen
CATEGORIES:Saison 2017/18
END:VEVENT
BEGIN:VEVENT
DTSTAMP:20260424T181547Z
DTSTART;TZID=Europe/Berlin:20171213T194500
DTEND;TZID=Europe/Berlin:20171213T224500
SUMMARY:HE 2. Liga Gr. 1 Solothurn III vs Heimberg (1)
UID:6010be51-3d04-5356-e053-1fc7a80a74f7
STATUS:CONFIRMED
LAST-MODIFIED:20171215T172819Z
DESCRIPTION:2. Liga Herren Gruppe 1\nBegegnungs-Nr: 1\nHeim: Solothurn III\nGast: Heimberg\n\nAdresse: Untere Sternengasse 24\, 4500 Solothurn\n
LOCATION:Untere Sternengasse 24\, 4500 Solothurn
CATEGORIES:Saison 2017/18
END:VEVENT
BEGIN:VEVENT
DTSTAMP:20260424T181547Z
DTSTART;TZID=Europe/Berlin:20180118T000000
DTEND;TZID=Europe/Berlin:20180118T030000
SUMMARY:HE 2. Liga Gr. 1 Thun III vs Heimberg (11)
UID:6010be51-3d3b-5356-e053-1fc7a80a74f7
STATUS:CONFIRMED
LAST-MODIFIED:20170830T200115Z
DESCRIPTION:2. Liga Herren Gruppe 1\nBegegnungs-Nr: 11\nHeim: Thun III\nGast: Heimberg\n
LOCATION:
CATEGORIES:Saison 2017/18
END:VEVENT
BEGIN:VEVENT
DTSTAMP:20260424T181547Z
DTSTART;TZID=Europe/Berlin:20180321T200000
DTEND;TZID=Europe/Berlin:20180321T230000
SUMMARY:HE 2. Liga Gr. 1 Münsingen vs Heimberg (31)
UID:6010be51-3cfd-5356-e053-1fc7a80a74f7
STATUS:CONFIRMED
LAST-MODIFIED:20180326T163218Z
DESCRIPTION:2. Liga Herren Gruppe 1\nBegegnungs-Nr: 31\nHeim: Münsingen\nGast: Heimberg\n\nAdresse: Turnhallenweg 8\, 3110 Münsingen\n
LOCATION:Turnhallenweg 8\, 3110 Münsingen
CATEGORIES:Saison 2017/18
END:VEVENT
BEGIN:VEVENT
DTSTAMP:20260424T181547Z
DTSTART;TZID=Europe/Berlin:20180417T200000
DTEND;TZID=Europe/Berlin:20180417T230000
SUMMARY:HE 2. Liga Final Herzogenbuchsee vs Heimberg (0)
UID:5adc242d-aa61-4144-a7ee-0075819fe914
STATUS:CONFIRMED
LAST-MODIFIED:20180417T214444Z
DESCRIPTION:2. Liga Herren Final\nBegegnungs-Nr: 0\nHeim: Herzogenbuchsee\nGast: Heimberg\n
LOCATION:
CATEGORIES:Saison 2017/18
END:VEVENT
BEGIN:VEVENT
DTSTAMP:20260424T181547Z
DTSTART;TZID=Europe/Berlin:20180205T194500
DTEND;TZID=Europe/Berlin:20180205T224500
SUMMARY:HE 2. Liga Gr. 1 Düdingen vs Heimberg (16)
UID:6010be51-3d37-5356-e053-1fc7a80a74f7
STATUS:CONFIRMED
LAST-MODIFIED:20180206T101958Z
DESCRIPTION:2. Liga Herren Gruppe 1\nBegegnungs-Nr: 16\nHeim: Düdingen\nGast: Heimberg\n\nAdresse: Alfons-Aeby-Strasse\, 3186 Düdingen\n
LOCATION:Alfons-Aeby-Strasse\, 3186 Düdingen
CATEGORIES:Saison 2017/18
END:VEVENT
BEGIN:VEVENT
DTSTAMP:20260424T181547Z
DTSTART;TZID=Europe/Berlin:20180328T194500
DTEND;TZID=Europe/Berlin:20180328T224500
SUMMARY:HE 2. Liga Gr. 1 Belp II vs Heimberg (41)
UID:6010be51-3cc7-5356-e053-1fc7a80a74f7
STATUS:CONFIRMED
LAST-MODIFIED:20180329T160756Z
DESCRIPTION:2. Liga Herren Gruppe 1\nBegegnungs-Nr: 41\nHeim: Belp II\nGast: Heimberg\n\nAdresse: Neumattstrasse 39\, 3123 Belp\n
LOCATION:Neumattstrasse 39\, 3123 Belp
CATEGORIES:Saison 2017/18
END:VEVENT
BEGIN:VEVENT
DTSTAMP:20260424T181547Z
DTSTART;TZID=Europe/Berlin:20180212T200000
DTEND;TZID=Europe/Berlin:20180212T230000
SUMMARY:HE 2. Liga Gr. 1 Köniz vs Heimberg (21)
UID:6010be51-3d07-5356-e053-1fc7a80a74f7
STATUS:CONFIRMED
LAST-MODIFIED:20180213T182543Z
DESCRIPTION:2. Liga Herren Gruppe 1\nBegegnungs-Nr: 21\nHeim: Köniz\nGast: Heimberg\n\nAdresse: Kirchstrasse 72-76\, 3084 Wabern\n
LOCATION:Kirchstrasse 72-76\, 3084 Wabern
CATEGORIES:Saison 2017/18
END:VEVENT
END:VCALENDAR
