BEGIN:VCALENDAR
PRODID:-//nuDatenautomaten//framework iCal4j //DE
VERSION:2.0
CALSCALE:GREGORIAN
BEGIN:VTIMEZONE
TZID:Europe/Berlin
LAST-MODIFIED:20260306T231828Z
TZURL:https://www.tzurl.org/zoneinfo/Europe/Berlin
X-LIC-LOCATION:Europe/Berlin
X-PROLEPTIC-TZNAME:LMT
BEGIN:STANDARD
TZNAME:CET
TZOFFSETFROM:+005328
TZOFFSETTO:+0100
DTSTART:18930401T000000
END:STANDARD
BEGIN:DAYLIGHT
TZNAME:CEST
TZOFFSETFROM:+0100
TZOFFSETTO:+0200
DTSTART:19160430T230000
RDATE:19400401T020000
RDATE:19430329T020000
RDATE:19460414T020000
RDATE:19470406T030000
RDATE:19480418T020000
RDATE:19490410T020000
RDATE:19800406T020000
END:DAYLIGHT
BEGIN:STANDARD
TZNAME:CET
TZOFFSETFROM:+0200
TZOFFSETTO:+0100
DTSTART:19161001T010000
RDATE:19421102T030000
RDATE:19431004T030000
RDATE:19441002T030000
RDATE:19451118T030000
RDATE:19461007T030000
END:STANDARD
BEGIN:DAYLIGHT
TZNAME:CEST
TZOFFSETFROM:+0100
TZOFFSETTO:+0200
DTSTART:19170416T020000
RRULE:FREQ=YEARLY;UNTIL=19180415T010000Z;BYMONTH=4;BYDAY=3MO
END:DAYLIGHT
BEGIN:STANDARD
TZNAME:CET
TZOFFSETFROM:+0200
TZOFFSETTO:+0100
DTSTART:19170917T030000
RRULE:FREQ=YEARLY;UNTIL=19180916T010000Z;BYMONTH=9;BYDAY=3MO
END:STANDARD
BEGIN:DAYLIGHT
TZNAME:CEST
TZOFFSETFROM:+0100
TZOFFSETTO:+0200
DTSTART:19440403T020000
RRULE:FREQ=YEARLY;UNTIL=19450402T010000Z;BYMONTH=4;BYDAY=1MO
END:DAYLIGHT
BEGIN:DAYLIGHT
TZNAME:CEMT
TZOFFSETFROM:+0200
TZOFFSETTO:+0300
DTSTART:19450524T020000
RDATE:19470511T030000
END:DAYLIGHT
BEGIN:DAYLIGHT
TZNAME:CEST
TZOFFSETFROM:+0300
TZOFFSETTO:+0200
DTSTART:19450924T030000
RDATE:19470629T030000
END:DAYLIGHT
BEGIN:STANDARD
TZNAME:CET
TZOFFSETFROM:+0100
TZOFFSETTO:+0100
DTSTART:19460101T000000
RDATE:19800101T000000
END:STANDARD
BEGIN:STANDARD
TZNAME:CET
TZOFFSETFROM:+0200
TZOFFSETTO:+0100
DTSTART:19471005T030000
RRULE:FREQ=YEARLY;UNTIL=19491002T010000Z;BYMONTH=10;BYDAY=1SU
END:STANDARD
BEGIN:STANDARD
TZNAME:CET
TZOFFSETFROM:+0200
TZOFFSETTO:+0100
DTSTART:19800928T030000
RRULE:FREQ=YEARLY;UNTIL=19950924T010000Z;BYMONTH=9;BYDAY=-1SU
END:STANDARD
BEGIN:DAYLIGHT
TZNAME:CEST
TZOFFSETFROM:+0100
TZOFFSETTO:+0200
DTSTART:19810329T020000
RRULE:FREQ=YEARLY;BYMONTH=3;BYDAY=-1SU
END:DAYLIGHT
BEGIN:STANDARD
TZNAME:CET
TZOFFSETFROM:+0200
TZOFFSETTO:+0100
DTSTART:19961027T030000
RRULE:FREQ=YEARLY;BYMONTH=10;BYDAY=-1SU
END:STANDARD
END:VTIMEZONE
BEGIN:VEVENT
DTSTAMP:20260424T193418Z
DTSTART;TZID=Europe/Berlin:20170909T160000
DTEND;TZID=Europe/Berlin:20170909T190000
SUMMARY:JUG 2.Liga Gr.1B Vorrunde Neuhausen IV vs Young Stars ZH II (3)
UID:6010be51-55e5-5356-e053-1fc7a80a74f7
STATUS:CONFIRMED
LAST-MODIFIED:20170910T181308Z
DESCRIPTION:2. Liga Jugend Gruppe 1B Vorrunde\nBegegnungs-Nr: 3\nHeim: Neuhausen IV\nGast: Young Stars ZH II\nHalle: Poule in Schaffhausen Ebnat\nAdresse: Ebnatstrasse 35\, 8200 Schaffhausen\n
LOCATION:Poule in Schaffhausen Ebnat Ebnatstrasse 35\, 8200 Schaffhausen
CATEGORIES:Saison 2017/18
END:VEVENT
BEGIN:VEVENT
DTSTAMP:20260424T193418Z
DTSTART;TZID=Europe/Berlin:20170909T130000
DTEND;TZID=Europe/Berlin:20170909T160000
SUMMARY:JUG 2.Liga Gr.1B Vorrunde Neuhausen IV vs Dübendorf-Volketswil (1)
UID:6010be51-55e6-5356-e053-1fc7a80a74f7
STATUS:CONFIRMED
LAST-MODIFIED:20170910T181222Z
DESCRIPTION:2. Liga Jugend Gruppe 1B Vorrunde\nBegegnungs-Nr: 1\nHeim: Neuhausen IV\nGast: Dübendorf-Volketswil\nHalle: Poule in Schaffhausen Ebnat\nAdresse: Ebnatstrasse 35\, 8200 Schaffhausen\n
LOCATION:Poule in Schaffhausen Ebnat Ebnatstrasse 35\, 8200 Schaffhausen
CATEGORIES:Saison 2017/18
END:VEVENT
BEGIN:VEVENT
DTSTAMP:20260424T193418Z
DTSTART;TZID=Europe/Berlin:20171209T143000
DTEND;TZID=Europe/Berlin:20171209T173000
SUMMARY:JUG 2.Liga Gr.1B Zw-Rde. Neuhausen IV vs Wädenswil III (2)
UID:6010be51-596e-5356-e053-1fc7a80a74f7
STATUS:CONFIRMED
LAST-MODIFIED:20171219T101524Z
DESCRIPTION:2. Liga Jugend Gruppe 1B Zw.-Runde\nBegegnungs-Nr: 2\nHeim: Neuhausen IV\nGast: Wädenswil III\nHalle: Poule in Bassersdorf BXA\nAdresse: Ebnatstrasse 35\, 8200 Schaffhausen\n
LOCATION:Poule in Bassersdorf BXA Ebnatstrasse 35\, 8200 Schaffhausen
CATEGORIES:Saison 2017/18
END:VEVENT
BEGIN:VEVENT
DTSTAMP:20260424T193418Z
DTSTART;TZID=Europe/Berlin:20180324T143000
DTEND;TZID=Europe/Berlin:20180324T173000
SUMMARY:JUG 2.Liga Gr.2A Final Neuhausen IV vs Young Stars ZH II (3)
UID:25d73712-1680-446a-85e6-4261ca773a45
STATUS:CONFIRMED
LAST-MODIFIED:20180327T081323Z
DESCRIPTION:2. Liga Jugend Gruppe 2A Final\nBegegnungs-Nr: 3\nHeim: Neuhausen IV\nGast: Young Stars ZH II\nHalle: Poule in Winterthur Schachen\nAdresse: Ebnatstrasse 35\, 8200 Schaffhausen\n
LOCATION:Poule in Winterthur Schachen Ebnatstrasse 35\, 8200 Schaffhausen
CATEGORIES:Saison 2017/18
END:VEVENT
BEGIN:VEVENT
DTSTAMP:20260424T193418Z
DTSTART;TZID=Europe/Berlin:20171209T160000
DTEND;TZID=Europe/Berlin:20171209T190000
SUMMARY:JUG 2.Liga Gr.1B Zw-Rde. Bassersdorf vs Neuhausen IV (3)
UID:6010be51-596f-5356-e053-1fc7a80a74f7
STATUS:CONFIRMED
LAST-MODIFIED:20171219T101550Z
DESCRIPTION:2. Liga Jugend Gruppe 1B Zw.-Runde\nBegegnungs-Nr: 3\nHeim: Bassersdorf\nGast: Neuhausen IV\nHalle: Poule in Bassersdorf BXA\nAdresse: Grindelstrasse 20\, 8303 Bassersdorf\n
LOCATION:Poule in Bassersdorf BXA Grindelstrasse 20\, 8303 Bassersdorf
CATEGORIES:Saison 2017/18
END:VEVENT
BEGIN:VEVENT
DTSTAMP:20260424T193418Z
DTSTART;TZID=Europe/Berlin:20180324T130000
DTEND;TZID=Europe/Berlin:20180324T160000
SUMMARY:JUG 2.Liga Gr.2A Final Winterthur vs Neuhausen IV (1)
UID:8f5c85c7-c7f9-4094-a5d6-b017156f3252
STATUS:CONFIRMED
LAST-MODIFIED:20180327T081245Z
DESCRIPTION:2. Liga Jugend Gruppe 2A Final\nBegegnungs-Nr: 1\nHeim: Winterthur\nGast: Neuhausen IV\nHalle: Poule in Winterthur Schachen\nAdresse: Buchackerstrasse 54\, 8400 Winterthur\n
LOCATION:Poule in Winterthur Schachen Buchackerstrasse 54\, 8400 Winterthur
CATEGORIES:Saison 2017/18
END:VEVENT
BEGIN:VEVENT
DTSTAMP:20260424T193418Z
DTSTART;TZID=Europe/Berlin:20180324T160000
DTEND;TZID=Europe/Berlin:20180324T190000
SUMMARY:JUG 2.Liga Gr.2A Final Dübendorf-Volketswil vs Neuhausen IV (5)
UID:6098dd99-8713-46fc-b5b1-8832742059d5
STATUS:CONFIRMED
LAST-MODIFIED:20180327T081409Z
DESCRIPTION:2. Liga Jugend Gruppe 2A Final\nBegegnungs-Nr: 5\nHeim: Dübendorf-Volketswil\nGast: Neuhausen IV\nHalle: Poule in Winterthur Schachen\nAdresse: Usterstrasse 35\, 8604 Volketswil\n
LOCATION:Poule in Winterthur Schachen Usterstrasse 35\, 8604 Volketswil
CATEGORIES:Saison 2017/18
END:VEVENT
END:VCALENDAR
