BEGIN:VCALENDAR
PRODID:-//nuDatenautomaten//framework iCal4j //DE
VERSION:2.0
CALSCALE:GREGORIAN
BEGIN:VTIMEZONE
TZID:Europe/Berlin
LAST-MODIFIED:20260306T231828Z
TZURL:https://www.tzurl.org/zoneinfo/Europe/Berlin
X-LIC-LOCATION:Europe/Berlin
X-PROLEPTIC-TZNAME:LMT
BEGIN:STANDARD
TZNAME:CET
TZOFFSETFROM:+005328
TZOFFSETTO:+0100
DTSTART:18930401T000000
END:STANDARD
BEGIN:DAYLIGHT
TZNAME:CEST
TZOFFSETFROM:+0100
TZOFFSETTO:+0200
DTSTART:19160430T230000
RDATE:19400401T020000
RDATE:19430329T020000
RDATE:19460414T020000
RDATE:19470406T030000
RDATE:19480418T020000
RDATE:19490410T020000
RDATE:19800406T020000
END:DAYLIGHT
BEGIN:STANDARD
TZNAME:CET
TZOFFSETFROM:+0200
TZOFFSETTO:+0100
DTSTART:19161001T010000
RDATE:19421102T030000
RDATE:19431004T030000
RDATE:19441002T030000
RDATE:19451118T030000
RDATE:19461007T030000
END:STANDARD
BEGIN:DAYLIGHT
TZNAME:CEST
TZOFFSETFROM:+0100
TZOFFSETTO:+0200
DTSTART:19170416T020000
RRULE:FREQ=YEARLY;UNTIL=19180415T010000Z;BYMONTH=4;BYDAY=3MO
END:DAYLIGHT
BEGIN:STANDARD
TZNAME:CET
TZOFFSETFROM:+0200
TZOFFSETTO:+0100
DTSTART:19170917T030000
RRULE:FREQ=YEARLY;UNTIL=19180916T010000Z;BYMONTH=9;BYDAY=3MO
END:STANDARD
BEGIN:DAYLIGHT
TZNAME:CEST
TZOFFSETFROM:+0100
TZOFFSETTO:+0200
DTSTART:19440403T020000
RRULE:FREQ=YEARLY;UNTIL=19450402T010000Z;BYMONTH=4;BYDAY=1MO
END:DAYLIGHT
BEGIN:DAYLIGHT
TZNAME:CEMT
TZOFFSETFROM:+0200
TZOFFSETTO:+0300
DTSTART:19450524T020000
RDATE:19470511T030000
END:DAYLIGHT
BEGIN:DAYLIGHT
TZNAME:CEST
TZOFFSETFROM:+0300
TZOFFSETTO:+0200
DTSTART:19450924T030000
RDATE:19470629T030000
END:DAYLIGHT
BEGIN:STANDARD
TZNAME:CET
TZOFFSETFROM:+0100
TZOFFSETTO:+0100
DTSTART:19460101T000000
RDATE:19800101T000000
END:STANDARD
BEGIN:STANDARD
TZNAME:CET
TZOFFSETFROM:+0200
TZOFFSETTO:+0100
DTSTART:19471005T030000
RRULE:FREQ=YEARLY;UNTIL=19491002T010000Z;BYMONTH=10;BYDAY=1SU
END:STANDARD
BEGIN:STANDARD
TZNAME:CET
TZOFFSETFROM:+0200
TZOFFSETTO:+0100
DTSTART:19800928T030000
RRULE:FREQ=YEARLY;UNTIL=19950924T010000Z;BYMONTH=9;BYDAY=-1SU
END:STANDARD
BEGIN:DAYLIGHT
TZNAME:CEST
TZOFFSETFROM:+0100
TZOFFSETTO:+0200
DTSTART:19810329T020000
RRULE:FREQ=YEARLY;BYMONTH=3;BYDAY=-1SU
END:DAYLIGHT
BEGIN:STANDARD
TZNAME:CET
TZOFFSETFROM:+0200
TZOFFSETTO:+0100
DTSTART:19961027T030000
RRULE:FREQ=YEARLY;BYMONTH=10;BYDAY=-1SU
END:STANDARD
END:VTIMEZONE
BEGIN:VEVENT
DTSTAMP:20260424T175747Z
DTSTART;TZID=Europe/Berlin:20171109T194500
DTEND;TZID=Europe/Berlin:20171109T224500
SUMMARY:HE 5.Liga Gr.7 Meilen-Männedorf V vs Toggenburg III (0)
UID:6010be51-48d4-5356-e053-1fc7a80a74f7
STATUS:CONFIRMED
LAST-MODIFIED:20171113T134739Z
DESCRIPTION:5. Liga Herren Gruppe 7\nBegegnungs-Nr: 0\nHeim: Meilen-Männedorf V\nGast: Toggenburg III\n\nAdresse: Schulhausstr. 27\, 8706 Meilen\n
LOCATION:Schulhausstr. 27\, 8706 Meilen
CATEGORIES:Saison 2017/18
END:VEVENT
BEGIN:VEVENT
DTSTAMP:20260424T175747Z
DTSTART;TZID=Europe/Berlin:20171005T194500
DTEND;TZID=Europe/Berlin:20171005T224500
SUMMARY:HE 5.Liga Gr.7 Meilen-Männedorf V vs Rüti III (0)
UID:6010be51-4905-5356-e053-1fc7a80a74f7
STATUS:CONFIRMED
LAST-MODIFIED:20171009T113850Z
DESCRIPTION:5. Liga Herren Gruppe 7\nBegegnungs-Nr: 0\nHeim: Meilen-Männedorf V\nGast: Rüti III\n\nAdresse: Schulhausstr. 27\, 8706 Meilen\n
LOCATION:Schulhausstr. 27\, 8706 Meilen
CATEGORIES:Saison 2017/18
END:VEVENT
BEGIN:VEVENT
DTSTAMP:20260424T175747Z
DTSTART;TZID=Europe/Berlin:20180507T194500
DTEND;TZID=Europe/Berlin:20180507T224500
SUMMARY:HE 5.Liga Aufstieg\, Gr.C Meilen-Männedorf V vs Balzers (437)
UID:489cad4a-751a-4def-9b81-851f6038a557
STATUS:CONFIRMED
LAST-MODIFIED:20180509T075145Z
DESCRIPTION:5. Liga Herren Aufstieg Gr.C\nBegegnungs-Nr: 437\nHeim: Meilen-Männedorf V\nGast: Balzers\n\nAdresse: Schulstrasse 10\, 8708 Männedorf\n
LOCATION:Schulstrasse 10\, 8708 Männedorf
CATEGORIES:Saison 2017/18
END:VEVENT
BEGIN:VEVENT
DTSTAMP:20260424T175747Z
DTSTART;TZID=Europe/Berlin:20180322T194500
DTEND;TZID=Europe/Berlin:20180322T224500
SUMMARY:HE 5.Liga Gr.7 Meilen-Männedorf V vs Gossau Zuerich II (0)
UID:6010be51-4b1f-5356-e053-1fc7a80a74f7
STATUS:CONFIRMED
LAST-MODIFIED:20180323T104639Z
DESCRIPTION:5. Liga Herren Gruppe 7\nBegegnungs-Nr: 0\nHeim: Meilen-Männedorf V\nGast: Gossau Zuerich II\n\nAdresse: Schulhausstr. 27\, 8706 Meilen\n
LOCATION:Schulhausstr. 27\, 8706 Meilen
CATEGORIES:Saison 2017/18
END:VEVENT
BEGIN:VEVENT
DTSTAMP:20260424T175747Z
DTSTART;TZID=Europe/Berlin:20180201T194500
DTEND;TZID=Europe/Berlin:20180201T224500
SUMMARY:HE 5.Liga Gr.7 Meilen-Männedorf V vs Dübendorf-Volketswil V (0)
UID:6010be51-4b27-5356-e053-1fc7a80a74f7
STATUS:CONFIRMED
LAST-MODIFIED:20180207T065117Z
DESCRIPTION:5. Liga Herren Gruppe 7\nBegegnungs-Nr: 0\nHeim: Meilen-Männedorf V\nGast: Dübendorf-Volketswil V\n\nAdresse: Schulhausstr. 27\, 8706 Meilen\n
LOCATION:Schulhausstr. 27\, 8706 Meilen
CATEGORIES:Saison 2017/18
END:VEVENT
BEGIN:VEVENT
DTSTAMP:20260424T175747Z
DTSTART;TZID=Europe/Berlin:20171207T194500
DTEND;TZID=Europe/Berlin:20171207T224500
SUMMARY:HE 5.Liga Gr.7 Meilen-Männedorf V vs Wetzikon VIII (0)
UID:6010be51-5ab5-5356-e053-1fc7a80a74f7
STATUS:CONFIRMED
LAST-MODIFIED:20171213T155313Z
DESCRIPTION:5. Liga Herren Gruppe 7\nBegegnungs-Nr: 0\nHeim: Meilen-Männedorf V\nGast: Wetzikon VIII\n\nAdresse: Schulhausstr. 27\, 8706 Meilen\n
LOCATION:Schulhausstr. 27\, 8706 Meilen
CATEGORIES:Saison 2017/18
END:VEVENT
BEGIN:VEVENT
DTSTAMP:20260424T175747Z
DTSTART;TZID=Europe/Berlin:20180125T194500
DTEND;TZID=Europe/Berlin:20180125T224500
SUMMARY:HE 5.Liga Gr.7 Meilen-Männedorf V vs Uster III (0)
UID:6010be51-4b63-5356-e053-1fc7a80a74f7
STATUS:CONFIRMED
LAST-MODIFIED:20180129T122300Z
DESCRIPTION:5. Liga Herren Gruppe 7\nBegegnungs-Nr: 0\nHeim: Meilen-Männedorf V\nGast: Uster III\n\nAdresse: Schulhausstr. 27\, 8706 Meilen\n
LOCATION:Schulhausstr. 27\, 8706 Meilen
CATEGORIES:Saison 2017/18
END:VEVENT
BEGIN:VEVENT
DTSTAMP:20260424T175747Z
DTSTART;TZID=Europe/Berlin:20170925T201500
DTEND;TZID=Europe/Berlin:20170925T231500
SUMMARY:HE 5.Liga Gr.7 Gossau Zuerich II vs Meilen-Männedorf V (0)
UID:6010be51-48d1-5356-e053-1fc7a80a74f7
STATUS:CONFIRMED
LAST-MODIFIED:20170926T140203Z
DESCRIPTION:5. Liga Herren Gruppe 7\nBegegnungs-Nr: 0\nHeim: Gossau Zuerich II\nGast: Meilen-Männedorf V\n\nAdresse: Schulstrasse\, 8624 Grüt-Gossau\n
LOCATION:Schulstrasse\, 8624 Grüt-Gossau
CATEGORIES:Saison 2017/18
END:VEVENT
BEGIN:VEVENT
DTSTAMP:20260424T175747Z
DTSTART;TZID=Europe/Berlin:20170913T201500
DTEND;TZID=Europe/Berlin:20170913T231500
SUMMARY:HE 5.Liga Gr.7 Uster III vs Meilen-Männedorf V (0)
UID:6010be51-4909-5356-e053-1fc7a80a74f7
STATUS:CONFIRMED
LAST-MODIFIED:20170914T084529Z
DESCRIPTION:5. Liga Herren Gruppe 7\nBegegnungs-Nr: 0\nHeim: Uster III\nGast: Meilen-Männedorf V\n\nAdresse: Wilstrasse 30 / Zürcherstrasse\, 8610 Uster\n
LOCATION:Wilstrasse 30 / Zürcherstrasse\, 8610 Uster
CATEGORIES:Saison 2017/18
END:VEVENT
BEGIN:VEVENT
DTSTAMP:20260424T175747Z
DTSTART;TZID=Europe/Berlin:20171030T201500
DTEND;TZID=Europe/Berlin:20171030T231500
SUMMARY:HE 5.Liga Gr.7 Dübendorf-Volketswil V vs Meilen-Männedorf V (0)
UID:6010be51-575f-5356-e053-1fc7a80a74f7
STATUS:CONFIRMED
LAST-MODIFIED:20171031T134738Z
DESCRIPTION:5. Liga Herren Gruppe 7\nBegegnungs-Nr: 0\nHeim: Dübendorf-Volketswil V\nGast: Meilen-Männedorf V\n\nAdresse: Usterstrasse 35\, 8604 Volketswil\n
LOCATION:Usterstrasse 35\, 8604 Volketswil
CATEGORIES:Saison 2017/18
END:VEVENT
BEGIN:VEVENT
DTSTAMP:20260424T175747Z
DTSTART;TZID=Europe/Berlin:20180409T194500
DTEND;TZID=Europe/Berlin:20180409T224500
SUMMARY:HE 5.Liga Gr.7 Wetzikon VIII vs Meilen-Männedorf V (0)
UID:6010be51-4dd4-5356-e053-1fc7a80a74f7
STATUS:CONFIRMED
LAST-MODIFIED:20180419T084319Z
DESCRIPTION:5. Liga Herren Gruppe 7\nBegegnungs-Nr: 0\nHeim: Wetzikon VIII\nGast: Meilen-Männedorf V\n\nAdresse: Usterstrasse 37\, 8620 Wetzikon\n
LOCATION:Usterstrasse 37\, 8620 Wetzikon
CATEGORIES:Saison 2017/18
END:VEVENT
BEGIN:VEVENT
DTSTAMP:20260424T175747Z
DTSTART;TZID=Europe/Berlin:20180313T200000
DTEND;TZID=Europe/Berlin:20180313T230000
SUMMARY:HE 5.Liga Gr.7 Toggenburg III vs Meilen-Männedorf V (0)
UID:6010be51-4b23-5356-e053-1fc7a80a74f7
STATUS:CONFIRMED
LAST-MODIFIED:20180319T172903Z
DESCRIPTION:5. Liga Herren Gruppe 7\nBegegnungs-Nr: 0\nHeim: Toggenburg III\nGast: Meilen-Männedorf V\n\nAdresse: Frohmaderweg\, 9630 Wattwil\n
LOCATION:Frohmaderweg\, 9630 Wattwil
CATEGORIES:Saison 2017/18
END:VEVENT
BEGIN:VEVENT
DTSTAMP:20260424T175747Z
DTSTART;TZID=Europe/Berlin:20180514T194500
DTEND;TZID=Europe/Berlin:20180514T224500
SUMMARY:HE 5.Liga Aufstieg\, Gr.C Affoltern A/A IV vs Meilen-Männedorf V (439)
UID:71e4abda-0b13-407a-a176-ce6dda126a20
STATUS:CONFIRMED
LAST-MODIFIED:20180515T124539Z
DESCRIPTION:5. Liga Herren Aufstieg Gr.C\nBegegnungs-Nr: 439\nHeim: Affoltern A/A IV\nGast: Meilen-Männedorf V\n\nAdresse: Butzenstr. 2\, 8910 Affoltern am Albis\n
LOCATION:Butzenstr. 2\, 8910 Affoltern am Albis
CATEGORIES:Saison 2017/18
END:VEVENT
BEGIN:VEVENT
DTSTAMP:20260424T175747Z
DTSTART;TZID=Europe/Berlin:20180209T201500
DTEND;TZID=Europe/Berlin:20180209T231500
SUMMARY:HE 5.Liga Gr.7 Rüti III vs Meilen-Männedorf V (0)
UID:6010be51-4b2b-5356-e053-1fc7a80a74f7
STATUS:CONFIRMED
LAST-MODIFIED:20180213T092545Z
DESCRIPTION:5. Liga Herren Gruppe 7\nBegegnungs-Nr: 0\nHeim: Rüti III\nGast: Meilen-Männedorf V\n\nAdresse: Spitalstrasse 20\, 8630 Rüti\n
LOCATION:Spitalstrasse 20\, 8630 Rüti
CATEGORIES:Saison 2017/18
END:VEVENT
END:VCALENDAR
