BEGIN:VCALENDAR
PRODID:-//nuDatenautomaten//framework iCal4j //DE
VERSION:2.0
CALSCALE:GREGORIAN
BEGIN:VTIMEZONE
TZID:Europe/Berlin
LAST-MODIFIED:20260306T231828Z
TZURL:https://www.tzurl.org/zoneinfo/Europe/Berlin
X-LIC-LOCATION:Europe/Berlin
X-PROLEPTIC-TZNAME:LMT
BEGIN:STANDARD
TZNAME:CET
TZOFFSETFROM:+005328
TZOFFSETTO:+0100
DTSTART:18930401T000000
END:STANDARD
BEGIN:DAYLIGHT
TZNAME:CEST
TZOFFSETFROM:+0100
TZOFFSETTO:+0200
DTSTART:19160430T230000
RDATE:19400401T020000
RDATE:19430329T020000
RDATE:19460414T020000
RDATE:19470406T030000
RDATE:19480418T020000
RDATE:19490410T020000
RDATE:19800406T020000
END:DAYLIGHT
BEGIN:STANDARD
TZNAME:CET
TZOFFSETFROM:+0200
TZOFFSETTO:+0100
DTSTART:19161001T010000
RDATE:19421102T030000
RDATE:19431004T030000
RDATE:19441002T030000
RDATE:19451118T030000
RDATE:19461007T030000
END:STANDARD
BEGIN:DAYLIGHT
TZNAME:CEST
TZOFFSETFROM:+0100
TZOFFSETTO:+0200
DTSTART:19170416T020000
RRULE:FREQ=YEARLY;UNTIL=19180415T010000Z;BYMONTH=4;BYDAY=3MO
END:DAYLIGHT
BEGIN:STANDARD
TZNAME:CET
TZOFFSETFROM:+0200
TZOFFSETTO:+0100
DTSTART:19170917T030000
RRULE:FREQ=YEARLY;UNTIL=19180916T010000Z;BYMONTH=9;BYDAY=3MO
END:STANDARD
BEGIN:DAYLIGHT
TZNAME:CEST
TZOFFSETFROM:+0100
TZOFFSETTO:+0200
DTSTART:19440403T020000
RRULE:FREQ=YEARLY;UNTIL=19450402T010000Z;BYMONTH=4;BYDAY=1MO
END:DAYLIGHT
BEGIN:DAYLIGHT
TZNAME:CEMT
TZOFFSETFROM:+0200
TZOFFSETTO:+0300
DTSTART:19450524T020000
RDATE:19470511T030000
END:DAYLIGHT
BEGIN:DAYLIGHT
TZNAME:CEST
TZOFFSETFROM:+0300
TZOFFSETTO:+0200
DTSTART:19450924T030000
RDATE:19470629T030000
END:DAYLIGHT
BEGIN:STANDARD
TZNAME:CET
TZOFFSETFROM:+0100
TZOFFSETTO:+0100
DTSTART:19460101T000000
RDATE:19800101T000000
END:STANDARD
BEGIN:STANDARD
TZNAME:CET
TZOFFSETFROM:+0200
TZOFFSETTO:+0100
DTSTART:19471005T030000
RRULE:FREQ=YEARLY;UNTIL=19491002T010000Z;BYMONTH=10;BYDAY=1SU
END:STANDARD
BEGIN:STANDARD
TZNAME:CET
TZOFFSETFROM:+0200
TZOFFSETTO:+0100
DTSTART:19800928T030000
RRULE:FREQ=YEARLY;UNTIL=19950924T010000Z;BYMONTH=9;BYDAY=-1SU
END:STANDARD
BEGIN:DAYLIGHT
TZNAME:CEST
TZOFFSETFROM:+0100
TZOFFSETTO:+0200
DTSTART:19810329T020000
RRULE:FREQ=YEARLY;BYMONTH=3;BYDAY=-1SU
END:DAYLIGHT
BEGIN:STANDARD
TZNAME:CET
TZOFFSETFROM:+0200
TZOFFSETTO:+0100
DTSTART:19961027T030000
RRULE:FREQ=YEARLY;BYMONTH=10;BYDAY=-1SU
END:STANDARD
END:VTIMEZONE
BEGIN:VEVENT
DTSTAMP:20260419T214336Z
DTSTART;TZID=Europe/Berlin:20170212T140000
DTEND;TZID=Europe/Berlin:20170212T170000
SUMMARY:U18 Côte Peseux vs Omega (3)
UID:6010be51-32de-5356-e053-1fc7a80a74f7
STATUS:CONFIRMED
LAST-MODIFIED:20170303T133435Z
DESCRIPTION:Qualif U18\nBegegnungs-Nr: 3\nHeim: Côte Peseux\nGast: Omega\n\nAdresse: rue E.-Roulet 4\, 2034 Peseux\n
LOCATION:rue E.-Roulet 4\, 2034 Peseux
CATEGORIES:Saison 2016/17
END:VEVENT
BEGIN:VEVENT
DTSTAMP:20260419T214336Z
DTSTART;TZID=Europe/Berlin:20170212T140000
DTEND;TZID=Europe/Berlin:20170212T170000
SUMMARY:U18 La Chaux-de-Fonds vs Côte Peseux (1)
UID:6010be51-32dd-5356-e053-1fc7a80a74f7
STATUS:CONFIRMED
LAST-MODIFIED:20170303T133205Z
DESCRIPTION:Qualif U18\nBegegnungs-Nr: 1\nHeim: La Chaux-de-Fonds\nGast: Côte Peseux\n\nAdresse: Rue du Docteur-Kern 14\, 2300 La Chaux-de-Fonds\n
LOCATION:Rue du Docteur-Kern 14\, 2300 La Chaux-de-Fonds
CATEGORIES:Saison 2016/17
END:VEVENT
BEGIN:VEVENT
DTSTAMP:20260419T214336Z
DTSTART;TZID=Europe/Berlin:20170212T140000
DTEND;TZID=Europe/Berlin:20170212T170000
SUMMARY:U18 Delémont vs Côte Peseux (5)
UID:6010be51-32df-5356-e053-1fc7a80a74f7
STATUS:CONFIRMED
LAST-MODIFIED:20170303T134328Z
DESCRIPTION:Qualif U18\nBegegnungs-Nr: 5\nHeim: Delémont\nGast: Côte Peseux\n\nAdresse: Rue de la Blancherie 4\, 2800 Delémont\n
LOCATION:Rue de la Blancherie 4\, 2800 Delémont
CATEGORIES:Saison 2016/17
END:VEVENT
END:VCALENDAR
