BEGIN:VCALENDAR
PRODID:-//nuDatenautomaten//framework iCal4j //DE
VERSION:2.0
CALSCALE:GREGORIAN
BEGIN:VTIMEZONE
TZID:Europe/Berlin
LAST-MODIFIED:20260306T231828Z
TZURL:https://www.tzurl.org/zoneinfo/Europe/Berlin
X-LIC-LOCATION:Europe/Berlin
X-PROLEPTIC-TZNAME:LMT
BEGIN:STANDARD
TZNAME:CET
TZOFFSETFROM:+005328
TZOFFSETTO:+0100
DTSTART:18930401T000000
END:STANDARD
BEGIN:DAYLIGHT
TZNAME:CEST
TZOFFSETFROM:+0100
TZOFFSETTO:+0200
DTSTART:19160430T230000
RDATE:19400401T020000
RDATE:19430329T020000
RDATE:19460414T020000
RDATE:19470406T030000
RDATE:19480418T020000
RDATE:19490410T020000
RDATE:19800406T020000
END:DAYLIGHT
BEGIN:STANDARD
TZNAME:CET
TZOFFSETFROM:+0200
TZOFFSETTO:+0100
DTSTART:19161001T010000
RDATE:19421102T030000
RDATE:19431004T030000
RDATE:19441002T030000
RDATE:19451118T030000
RDATE:19461007T030000
END:STANDARD
BEGIN:DAYLIGHT
TZNAME:CEST
TZOFFSETFROM:+0100
TZOFFSETTO:+0200
DTSTART:19170416T020000
RRULE:FREQ=YEARLY;UNTIL=19180415T010000Z;BYMONTH=4;BYDAY=3MO
END:DAYLIGHT
BEGIN:STANDARD
TZNAME:CET
TZOFFSETFROM:+0200
TZOFFSETTO:+0100
DTSTART:19170917T030000
RRULE:FREQ=YEARLY;UNTIL=19180916T010000Z;BYMONTH=9;BYDAY=3MO
END:STANDARD
BEGIN:DAYLIGHT
TZNAME:CEST
TZOFFSETFROM:+0100
TZOFFSETTO:+0200
DTSTART:19440403T020000
RRULE:FREQ=YEARLY;UNTIL=19450402T010000Z;BYMONTH=4;BYDAY=1MO
END:DAYLIGHT
BEGIN:DAYLIGHT
TZNAME:CEMT
TZOFFSETFROM:+0200
TZOFFSETTO:+0300
DTSTART:19450524T020000
RDATE:19470511T030000
END:DAYLIGHT
BEGIN:DAYLIGHT
TZNAME:CEST
TZOFFSETFROM:+0300
TZOFFSETTO:+0200
DTSTART:19450924T030000
RDATE:19470629T030000
END:DAYLIGHT
BEGIN:STANDARD
TZNAME:CET
TZOFFSETFROM:+0100
TZOFFSETTO:+0100
DTSTART:19460101T000000
RDATE:19800101T000000
END:STANDARD
BEGIN:STANDARD
TZNAME:CET
TZOFFSETFROM:+0200
TZOFFSETTO:+0100
DTSTART:19471005T030000
RRULE:FREQ=YEARLY;UNTIL=19491002T010000Z;BYMONTH=10;BYDAY=1SU
END:STANDARD
BEGIN:STANDARD
TZNAME:CET
TZOFFSETFROM:+0200
TZOFFSETTO:+0100
DTSTART:19800928T030000
RRULE:FREQ=YEARLY;UNTIL=19950924T010000Z;BYMONTH=9;BYDAY=-1SU
END:STANDARD
BEGIN:DAYLIGHT
TZNAME:CEST
TZOFFSETFROM:+0100
TZOFFSETTO:+0200
DTSTART:19810329T020000
RRULE:FREQ=YEARLY;BYMONTH=3;BYDAY=-1SU
END:DAYLIGHT
BEGIN:STANDARD
TZNAME:CET
TZOFFSETFROM:+0200
TZOFFSETTO:+0100
DTSTART:19961027T030000
RRULE:FREQ=YEARLY;BYMONTH=10;BYDAY=-1SU
END:STANDARD
END:VTIMEZONE
BEGIN:VEVENT
DTSTAMP:20260419T214356Z
DTSTART;TZID=Europe/Berlin:20170422T150000
DTEND;TZID=Europe/Berlin:20170422T180000
SUMMARY:O40 Delémont vs Moutier (29)
UID:6010be51-3be3-5356-e053-1fc7a80a74f7
STATUS:CONFIRMED
LAST-MODIFIED:20170423T162511Z
DESCRIPTION:Séniors O40\nBegegnungs-Nr: 29\nHeim: Delémont\nGast: Moutier\n\nAdresse: Rue de la jeunesse 32\, 2800 Delémont\n
LOCATION:Rue de la jeunesse 32\, 2800 Delémont
CATEGORIES:Saison 2016/17
END:VEVENT
BEGIN:VEVENT
DTSTAMP:20260419T214356Z
DTSTART;TZID=Europe/Berlin:20170318T150000
DTEND;TZID=Europe/Berlin:20170318T180000
SUMMARY:O40 Delémont vs Nugerol-Le Landeron (40)
UID:6010be51-0471-5356-e053-1fc7a80a74f7
STATUS:CONFIRMED
LAST-MODIFIED:20170319T132544Z
DESCRIPTION:Séniors O40\nBegegnungs-Nr: 40\nHeim: Delémont\nGast: Nugerol-Le Landeron\nHalle: Delémont\nAdresse: Rue de la jeunesse 32\, 2800 Delémont\n
LOCATION:Delémont Rue de la jeunesse 32\, 2800 Delémont
CATEGORIES:Saison 2016/17
END:VEVENT
BEGIN:VEVENT
DTSTAMP:20260419T214356Z
DTSTART;TZID=Europe/Berlin:20170318T163000
DTEND;TZID=Europe/Berlin:20170318T193000
SUMMARY:O40 Delémont vs Cernier (7)
UID:6010be51-3249-5356-e053-1fc7a80a74f7
STATUS:CONFIRMED
LAST-MODIFIED:20170320T103759Z
DESCRIPTION:Séniors O40\nBegegnungs-Nr: 7\nHeim: Delémont\nGast: Cernier\nHalle: Delémont\nAdresse: Rue de la jeunesse 32\, 2800 Delémont\n
LOCATION:Delémont Rue de la jeunesse 32\, 2800 Delémont
CATEGORIES:Saison 2016/17
END:VEVENT
BEGIN:VEVENT
DTSTAMP:20260419T214356Z
DTSTART;TZID=Europe/Berlin:20170318T163000
DTEND;TZID=Europe/Berlin:20170318T193000
SUMMARY:O40 Delémont vs Le Locle (19)
UID:6010be51-33cd-5356-e053-1fc7a80a74f7
STATUS:CONFIRMED
LAST-MODIFIED:20170320T103404Z
DESCRIPTION:Séniors O40\nBegegnungs-Nr: 19\nHeim: Delémont\nGast: Le Locle\nHalle: Delémont\nAdresse: Rue de la jeunesse 32\, 2800 Delémont\n
LOCATION:Delémont Rue de la jeunesse 32\, 2800 Delémont
CATEGORIES:Saison 2016/17
END:VEVENT
BEGIN:VEVENT
DTSTAMP:20260419T214356Z
DTSTART;TZID=Europe/Berlin:20160701T000000
DTEND;TZID=Europe/Berlin:20160701T030000
SUMMARY:O40 Porrentruy vs Delémont (35)
UID:6010be51-077e-5356-e053-1fc7a80a74f7
STATUS:CONFIRMED
LAST-MODIFIED:20170420T062912Z
DESCRIPTION:Séniors O40\nBegegnungs-Nr: 35\nHeim: Porrentruy\nGast: Delémont\n\nAdresse: Rue du Banné 14\, 2900 Porrentruy\n
LOCATION:Rue du Banné 14\, 2900 Porrentruy
CATEGORIES:Saison 2016/17
END:VEVENT
BEGIN:VEVENT
DTSTAMP:20260419T214356Z
DTSTART;TZID=Europe/Berlin:20160701T000000
DTEND;TZID=Europe/Berlin:20160701T030000
SUMMARY:O40 Delémont II vs Delémont (1)
UID:6010be51-07bc-5356-e053-1fc7a80a74f7
STATUS:CONFIRMED
LAST-MODIFIED:20170411T073348Z
DESCRIPTION:Séniors O40\nBegegnungs-Nr: 1\nHeim: Delémont II\nGast: Delémont\n\nAdresse: Rue de la Blancherie 4\, 2800 Delémont\n
LOCATION:Rue de la Blancherie 4\, 2800 Delémont
CATEGORIES:Saison 2016/17
END:VEVENT
BEGIN:VEVENT
DTSTAMP:20260419T214356Z
DTSTART;TZID=Europe/Berlin:20170422T150000
DTEND;TZID=Europe/Berlin:20170422T180000
SUMMARY:O40 St-Imier vs Delémont (25)
UID:6010be51-07fe-5356-e053-1fc7a80a74f7
STATUS:CONFIRMED
LAST-MODIFIED:20170423T090411Z
DESCRIPTION:Séniors O40\nBegegnungs-Nr: 25\nHeim: St-Imier\nGast: Delémont\n\nAdresse: Rue de Beau-Site\, 2610 St-Imier\n
LOCATION:Rue de Beau-Site\, 2610 St-Imier
CATEGORIES:Saison 2016/17
END:VEVENT
BEGIN:VEVENT
DTSTAMP:20260419T214356Z
DTSTART;TZID=Europe/Berlin:20170318T133000
DTEND;TZID=Europe/Berlin:20170318T163000
SUMMARY:O40 Omega vs Delémont (45)
UID:6010be51-0479-5356-e053-1fc7a80a74f7
STATUS:CONFIRMED
LAST-MODIFIED:20170319T132321Z
DESCRIPTION:Séniors O40\nBegegnungs-Nr: 45\nHeim: Omega\nGast: Delémont\nHalle: Delémont\nAdresse: Tennisweg 1\, 2504 Biel-Bienne\n
LOCATION:Delémont Tennisweg 1\, 2504 Biel-Bienne
CATEGORIES:Saison 2016/17
END:VEVENT
BEGIN:VEVENT
DTSTAMP:20260419T214356Z
DTSTART;TZID=Europe/Berlin:20170318T150000
DTEND;TZID=Europe/Berlin:20170318T180000
SUMMARY:O40 Tramelan vs Delémont (13)
UID:6010be51-3248-5356-e053-1fc7a80a74f7
STATUS:CONFIRMED
LAST-MODIFIED:20170319T132416Z
DESCRIPTION:Séniors O40\nBegegnungs-Nr: 13\nHeim: Tramelan\nGast: Delémont\nHalle: Delémont\nAdresse: Rue du Collège 13\, 2720 Tramelan\n
LOCATION:Delémont Rue du Collège 13\, 2720 Tramelan
CATEGORIES:Saison 2016/17
END:VEVENT
END:VCALENDAR
